BEGIN:VCALENDAR
VERSION:2.0
PRODID:-//連法國際實業股份有限公司 - ECPv5.12.3//NONSGML v1.0//EN
CALSCALE:GREGORIAN
METHOD:PUBLISH
X-WR-CALNAME:連法國際實業股份有限公司
X-ORIGINAL-URL:https://www.lanfar.com
X-WR-CALDESC:Events for 連法國際實業股份有限公司
REFRESH-INTERVAL;VALUE=DURATION:PT1H
X-Robots-Tag:noindex
X-PUBLISHED-TTL:PT1H
BEGIN:VTIMEZONE
TZID:Asia/Shanghai
BEGIN:STANDARD
TZOFFSETFROM:+0800
TZOFFSETTO:+0800
TZNAME:CST
DTSTART:20250101T000000
END:STANDARD
END:VTIMEZONE
BEGIN:VEVENT
DTSTART;TZID=Asia/Shanghai:20251202T193000
DTEND;TZID=Asia/Shanghai:20251202T210000
DTSTAMP:20260425T210208
CREATED:20251121T103121Z
LAST-MODIFIED:20251128T064102Z
UID:61121-1764703800-1764709200@www.lanfar.com
SUMMARY:桃園 賜多利同樂會
DESCRIPTION: 
URL:https://www.lanfar.com/event/%e6%a1%83%e5%9c%92-%e8%b3%9c%e5%a4%9a%e5%88%a9%e5%90%8c%e6%a8%82%e6%9c%83-2025-12-02/
LOCATION:北區桃園營業處 下午7:30\, 桃園市桃園區復興路207號18樓之1
CATEGORIES:全部,桃園
END:VEVENT
BEGIN:VEVENT
DTSTART;TZID=Asia/Shanghai:20251209T193000
DTEND;TZID=Asia/Shanghai:20251209T210000
DTSTAMP:20260425T210208
CREATED:20251121T103333Z
LAST-MODIFIED:20251205T053142Z
UID:61125-1765308600-1765314000@www.lanfar.com
SUMMARY:桃園 事業說明會
DESCRIPTION: 
URL:https://www.lanfar.com/event/%e6%a1%83%e5%9c%92-%e4%ba%8b%e6%a5%ad%e8%aa%aa%e6%98%8e%e6%9c%83-2025-12-09/
LOCATION:北區桃園營業處 下午7:30\, 桃園市桃園區復興路207號18樓之1
CATEGORIES:全部,桃園
END:VEVENT
BEGIN:VEVENT
DTSTART;TZID=Asia/Shanghai:20251216T193000
DTEND;TZID=Asia/Shanghai:20251216T210000
DTSTAMP:20260425T210208
CREATED:20251121T103839Z
LAST-MODIFIED:20251128T064802Z
UID:61133-1765913400-1765918800@www.lanfar.com
SUMMARY:桃園 與醫師有約
DESCRIPTION: 
URL:https://www.lanfar.com/event/%e6%a1%83%e5%9c%92-%e8%88%87%e9%86%ab%e5%b8%ab%e6%9c%89%e7%b4%84-2025-12-16/
LOCATION:北區桃園營業處 下午7:30\, 桃園市桃園區復興路207號18樓之1
CATEGORIES:全部,桃園
END:VEVENT
BEGIN:VEVENT
DTSTART;TZID=Asia/Shanghai:20251223T193000
DTEND;TZID=Asia/Shanghai:20251223T210000
DTSTAMP:20260425T210208
CREATED:20251121T104244Z
LAST-MODIFIED:20251128T064939Z
UID:61141-1766518200-1766523600@www.lanfar.com
SUMMARY:桃園 事業說明會
DESCRIPTION: 
URL:https://www.lanfar.com/event/%e6%a1%83%e5%9c%92-%e4%ba%8b%e6%a5%ad%e8%aa%aa%e6%98%8e%e6%9c%83-2025-12-23/
LOCATION:北區桃園營業處 下午7:30\, 桃園市桃園區復興路207號18樓之1
CATEGORIES:全部,桃園
END:VEVENT
BEGIN:VEVENT
DTSTART;VALUE=DATE:20251225
DTEND;VALUE=DATE:20251226
DTSTAMP:20260425T210208
CREATED:20251121T111248Z
LAST-MODIFIED:20251121T111543Z
UID:61186-1766620800-1766707199@www.lanfar.com
SUMMARY:行憲紀念日
DESCRIPTION:
URL:https://www.lanfar.com/event/%e8%a1%8c%e6%86%b2%e7%b4%80%e5%bf%b5%e6%97%a5-2025-12-25/
CATEGORIES:全部,桃園,台中,台南,高雄,節日
END:VEVENT
BEGIN:VEVENT
DTSTART;TZID=Asia/Shanghai:20251230T193000
DTEND;TZID=Asia/Shanghai:20251230T210000
DTSTAMP:20260425T210208
CREATED:20251121T104435Z
LAST-MODIFIED:20251128T065038Z
UID:61149-1767123000-1767128400@www.lanfar.com
SUMMARY:桃園 說故事分享會
DESCRIPTION: 
URL:https://www.lanfar.com/event/%e6%a1%83%e5%9c%92-%e8%aa%aa%e6%95%85%e4%ba%8b%e5%88%86%e4%ba%ab%e6%9c%83-2025-12-30/
LOCATION:北區桃園營業處 下午7:30\, 桃園市桃園區復興路207號18樓之1
CATEGORIES:全部,桃園
END:VEVENT
END:VCALENDAR