BEGIN:VCALENDAR
VERSION:2.0
PRODID:-//連法國際實業股份有限公司 - ECPv5.12.3//NONSGML v1.0//EN
CALSCALE:GREGORIAN
METHOD:PUBLISH
X-WR-CALNAME:連法國際實業股份有限公司
X-ORIGINAL-URL:https://www.lanfar.com
X-WR-CALDESC:Events for 連法國際實業股份有限公司
REFRESH-INTERVAL;VALUE=DURATION:PT1H
X-Robots-Tag:noindex
X-PUBLISHED-TTL:PT1H
BEGIN:VTIMEZONE
TZID:Asia/Shanghai
BEGIN:STANDARD
TZOFFSETFROM:+0800
TZOFFSETTO:+0800
TZNAME:CST
DTSTART:20250101T000000
END:STANDARD
END:VTIMEZONE
BEGIN:VEVENT
DTSTART;TZID=Asia/Shanghai:20250902T193000
DTEND;TZID=Asia/Shanghai:20250902T210000
DTSTAMP:20260426T040950
CREATED:20250825T102526Z
LAST-MODIFIED:20250828T020105Z
UID:57001-1756841400-1756846800@www.lanfar.com
SUMMARY:桃園 事業說明會
DESCRIPTION:
URL:https://www.lanfar.com/event/%e6%a1%83%e5%9c%92-%e4%ba%8b%e6%a5%ad%e8%aa%aa%e6%98%8e%e6%9c%83-2025-09-02/
LOCATION:北區桃園營業處 下午7:30\, 桃園市桃園區復興路207號18樓之1
CATEGORIES:全部,桃園
END:VEVENT
BEGIN:VEVENT
DTSTART;TZID=Asia/Shanghai:20250909T193000
DTEND;TZID=Asia/Shanghai:20250909T210000
DTSTAMP:20260426T040950
CREATED:20250825T102813Z
LAST-MODIFIED:20250828T020248Z
UID:57009-1757446200-1757451600@www.lanfar.com
SUMMARY:桃園 與醫師有約
DESCRIPTION:
URL:https://www.lanfar.com/event/%e6%a1%83%e5%9c%92-%e8%88%87%e9%86%ab%e5%b8%ab%e6%9c%89%e7%b4%84-2025-09-09/
LOCATION:北區桃園營業處 下午7:30\, 桃園市桃園區復興路207號18樓之1
CATEGORIES:全部,桃園
END:VEVENT
BEGIN:VEVENT
DTSTART;TZID=Asia/Shanghai:20250916T193000
DTEND;TZID=Asia/Shanghai:20250916T210000
DTSTAMP:20260426T040950
CREATED:20250825T102926Z
LAST-MODIFIED:20250828T020631Z
UID:57013-1758051000-1758056400@www.lanfar.com
SUMMARY:桃園 說故事分享會
DESCRIPTION:
URL:https://www.lanfar.com/event/%e6%a1%83%e5%9c%92-%e8%aa%aa%e6%95%85%e4%ba%8b%e5%88%86%e4%ba%ab%e6%9c%83-2025-09-16/
LOCATION:北區桃園營業處 下午7:30\, 桃園市桃園區復興路207號18樓之1
CATEGORIES:全部,桃園
END:VEVENT
BEGIN:VEVENT
DTSTART;TZID=Asia/Shanghai:20250923T073000
DTEND;TZID=Asia/Shanghai:20250923T210000
DTSTAMP:20260426T040950
CREATED:20250825T103204Z
LAST-MODIFIED:20250828T020928Z
UID:57021-1758612600-1758661200@www.lanfar.com
SUMMARY:桃園  1388訓練營
DESCRIPTION:
URL:https://www.lanfar.com/event/%e6%a1%83%e5%9c%92-1388%e8%a8%93%e7%b7%b4%e7%87%9f-2025-09-23/
LOCATION:北區桃園營業處 下午7:30\, 桃園市桃園區復興路207號18樓之1
CATEGORIES:全部,桃園
END:VEVENT
BEGIN:VEVENT
DTSTART;TZID=Asia/Shanghai:20250930T193000
DTEND;TZID=Asia/Shanghai:20250930T210000
DTSTAMP:20260426T040950
CREATED:20250825T103325Z
LAST-MODIFIED:20250828T021034Z
UID:57025-1759260600-1759266000@www.lanfar.com
SUMMARY:桃園 賜多利同樂會
DESCRIPTION:
URL:https://www.lanfar.com/event/%e6%a1%83%e5%9c%92-%e8%b3%9c%e5%a4%9a%e5%88%a9%e5%90%8c%e6%a8%82%e6%9c%83-2025-09-30/
LOCATION:北區桃園營業處 下午7:30\, 桃園市桃園區復興路207號18樓之1
CATEGORIES:全部,桃園
END:VEVENT
END:VCALENDAR