BEGIN:VCALENDAR
VERSION:2.0
PRODID:-//連法國際實業股份有限公司 - ECPv5.12.3//NONSGML v1.0//EN
CALSCALE:GREGORIAN
METHOD:PUBLISH
X-WR-CALNAME:連法國際實業股份有限公司
X-ORIGINAL-URL:https://www.lanfar.com
X-WR-CALDESC:Events for 連法國際實業股份有限公司
REFRESH-INTERVAL;VALUE=DURATION:PT1H
X-Robots-Tag:noindex
X-PUBLISHED-TTL:PT1H
BEGIN:VTIMEZONE
TZID:Asia/Shanghai
BEGIN:STANDARD
TZOFFSETFROM:+0800
TZOFFSETTO:+0800
TZNAME:CST
DTSTART:20250101T000000
END:STANDARD
END:VTIMEZONE
BEGIN:VEVENT
DTSTART;TZID=Asia/Shanghai:20250701T193000
DTEND;TZID=Asia/Shanghai:20250701T210000
DTSTAMP:20260426T074006
CREATED:20250626T022813Z
LAST-MODIFIED:20250630T095502Z
UID:54071-1751398200-1751403600@www.lanfar.com
SUMMARY:桃園  1388訓練營
DESCRIPTION: 
URL:https://www.lanfar.com/event/%e6%a1%83%e5%9c%92-1388%e8%a8%93%e7%b7%b4%e7%87%9f-2025-07-01/
LOCATION:北區桃園營業處 下午7:30\, 桃園市桃園區復興路207號18樓之1
CATEGORIES:全部,桃園
END:VEVENT
BEGIN:VEVENT
DTSTART;TZID=Asia/Shanghai:20250705T133000
DTEND;TZID=Asia/Shanghai:20250705T173000
DTSTAMP:20260426T074006
CREATED:20250626T095506Z
LAST-MODIFIED:20250701T020551Z
UID:54161-1751722200-1751736600@www.lanfar.com
SUMMARY:桃園 基座訓練
DESCRIPTION: 
URL:https://www.lanfar.com/event/%e6%a1%83%e5%9c%92-%e5%9f%ba%e5%ba%a7%e8%a8%93%e7%b7%b4-2025-07-05/
LOCATION:北區桃園營業處 下午1:30\, 桃園市桃園區復興路207號18樓之1
CATEGORIES:全部,桃園
END:VEVENT
BEGIN:VEVENT
DTSTART;TZID=Asia/Shanghai:20250708T193000
DTEND;TZID=Asia/Shanghai:20250708T210000
DTSTAMP:20260426T074006
CREATED:20250626T025659Z
LAST-MODIFIED:20250630T095956Z
UID:54079-1752003000-1752008400@www.lanfar.com
SUMMARY:桃園 1388訓練營
DESCRIPTION: 
URL:https://www.lanfar.com/event/%e6%a1%83%e5%9c%92-1388%e8%a8%93%e7%b7%b4%e7%87%9f-2025-07-08/
LOCATION:北區桃園營業處 下午7:30\, 桃園市桃園區復興路207號18樓之1
CATEGORIES:全部,桃園
END:VEVENT
BEGIN:VEVENT
DTSTART;TZID=Asia/Shanghai:20250715T193000
DTEND;TZID=Asia/Shanghai:20250715T210000
DTSTAMP:20260426T074006
CREATED:20250626T053312Z
LAST-MODIFIED:20250711T020756Z
UID:54102-1752607800-1752613200@www.lanfar.com
SUMMARY:桃園 事業說明會
DESCRIPTION: 
URL:https://www.lanfar.com/event/%e6%a1%83%e5%9c%92-%e4%ba%8b%e6%a5%ad%e8%aa%aa%e6%98%8e%e6%9c%83-2025-07-15/
LOCATION:北區桃園營業處 下午7:30\, 桃園市桃園區復興路207號18樓之1
CATEGORIES:全部,桃園
END:VEVENT
BEGIN:VEVENT
DTSTART;TZID=Asia/Shanghai:20250722T193000
DTEND;TZID=Asia/Shanghai:20250722T210000
DTSTAMP:20260426T074006
CREATED:20250626T053536Z
LAST-MODIFIED:20250630T100821Z
UID:54110-1753212600-1753218000@www.lanfar.com
SUMMARY:桃園 說故事分享會
DESCRIPTION: 
URL:https://www.lanfar.com/event/%e6%a1%83%e5%9c%92-%e8%aa%aa%e6%95%85%e4%ba%8b%e5%88%86%e4%ba%ab%e6%9c%83-2025-07-22/
LOCATION:北區桃園營業處 下午7:30\, 桃園市桃園區復興路207號18樓之1
CATEGORIES:全部,桃園
END:VEVENT
BEGIN:VEVENT
DTSTART;TZID=Asia/Shanghai:20250729T193000
DTEND;TZID=Asia/Shanghai:20250729T210000
DTSTAMP:20260426T074006
CREATED:20250626T053629Z
LAST-MODIFIED:20250630T101622Z
UID:54114-1753817400-1753822800@www.lanfar.com
SUMMARY:桃園 賜多利同樂會
DESCRIPTION: 
URL:https://www.lanfar.com/event/%e6%a1%83%e5%9c%92-%e8%b3%9c%e5%a4%9a%e5%88%a9%e5%90%8c%e6%a8%82%e6%9c%83-2025-07-29/
LOCATION:北區桃園營業處 下午7:30\, 桃園市桃園區復興路207號18樓之1
CATEGORIES:全部,桃園
END:VEVENT
END:VCALENDAR