BEGIN:VCALENDAR
VERSION:2.0
PRODID:-//連法國際實業股份有限公司 - ECPv5.12.3//NONSGML v1.0//EN
CALSCALE:GREGORIAN
METHOD:PUBLISH
X-WR-CALNAME:連法國際實業股份有限公司
X-ORIGINAL-URL:https://www.lanfar.com
X-WR-CALDESC:Events for 連法國際實業股份有限公司
REFRESH-INTERVAL;VALUE=DURATION:PT1H
X-Robots-Tag:noindex
X-PUBLISHED-TTL:PT1H
BEGIN:VTIMEZONE
TZID:Asia/Shanghai
BEGIN:STANDARD
TZOFFSETFROM:+0800
TZOFFSETTO:+0800
TZNAME:CST
DTSTART:20250101T000000
END:STANDARD
END:VTIMEZONE
BEGIN:VEVENT
DTSTART;TZID=Asia/Shanghai:20250603T193000
DTEND;TZID=Asia/Shanghai:20250603T210000
DTSTAMP:20260426T091351
CREATED:20250526T101553Z
LAST-MODIFIED:20250529T064625Z
UID:52397-1748979000-1748984400@www.lanfar.com
SUMMARY:桃園 說故事分享會
DESCRIPTION: 
URL:https://www.lanfar.com/event/%e6%a1%83%e5%9c%92-%e8%aa%aa%e6%95%85%e4%ba%8b%e5%88%86%e4%ba%ab%e6%9c%83-2025-06-03/
LOCATION:北區桃園營業處 下午7:30\, 桃園市桃園區復興路207號18樓之1
CATEGORIES:全部,桃園
END:VEVENT
BEGIN:VEVENT
DTSTART;TZID=Asia/Shanghai:20250610T193000
DTEND;TZID=Asia/Shanghai:20250610T210000
DTSTAMP:20260426T091351
CREATED:20250526T102146Z
LAST-MODIFIED:20250529T064909Z
UID:52406-1749583800-1749589200@www.lanfar.com
SUMMARY:桃園 事業說明會
DESCRIPTION: 
URL:https://www.lanfar.com/event/%e6%a1%83%e5%9c%92-%e4%ba%8b%e6%a5%ad%e8%aa%aa%e6%98%8e%e6%9c%83-2025-06-10/
LOCATION:北區桃園營業處 下午7:30\, 桃園市桃園區復興路207號18樓之1
CATEGORIES:全部,桃園
END:VEVENT
BEGIN:VEVENT
DTSTART;TZID=Asia/Shanghai:20250617T193000
DTEND;TZID=Asia/Shanghai:20250617T210000
DTSTAMP:20260426T091351
CREATED:20250526T104132Z
LAST-MODIFIED:20250529T065047Z
UID:52463-1750188600-1750194000@www.lanfar.com
SUMMARY:桃園 事業說明會
DESCRIPTION: 
URL:https://www.lanfar.com/event/%e6%a1%83%e5%9c%92-%e4%ba%8b%e6%a5%ad%e8%aa%aa%e6%98%8e%e6%9c%83-2025-06-17/
LOCATION:北區桃園營業處 下午7:30\, 桃園市桃園區復興路207號18樓之1
CATEGORIES:全部,桃園
END:VEVENT
BEGIN:VEVENT
DTSTART;TZID=Asia/Shanghai:20250621T090000
DTEND;TZID=Asia/Shanghai:20250621T173000
DTSTAMP:20260426T091351
CREATED:20250526T103720Z
LAST-MODIFIED:20250606T105328Z
UID:52453-1750496400-1750527000@www.lanfar.com
SUMMARY:桃園 NDO訓練
DESCRIPTION: 
URL:https://www.lanfar.com/event/%e6%a1%83%e5%9c%92-ndo%e8%a8%93%e7%b7%b4-2025-06-21/
LOCATION:南區高雄營業處 上午9:00\, 高雄市前鎮區一心一路241號7樓
CATEGORIES:全部,桃園
END:VEVENT
BEGIN:VEVENT
DTSTART;TZID=Asia/Shanghai:20250624T193000
DTEND;TZID=Asia/Shanghai:20250624T210000
DTSTAMP:20260426T091351
CREATED:20250526T102758Z
LAST-MODIFIED:20250529T065332Z
UID:52422-1750793400-1750798800@www.lanfar.com
SUMMARY:桃園 賜多利同樂會
DESCRIPTION: 
URL:https://www.lanfar.com/event/%e6%a1%83%e5%9c%92-%e8%b3%9c%e5%a4%9a%e5%88%a9%e5%90%8c%e6%a8%82%e6%9c%83-2025-06-24/
LOCATION:北區桃園營業處 下午7:30\, 桃園市桃園區復興路207號18樓之1
CATEGORIES:全部,桃園
END:VEVENT
END:VCALENDAR