BEGIN:VCALENDAR
VERSION:2.0
PRODID:-//連法國際實業股份有限公司 - ECPv5.12.3//NONSGML v1.0//EN
CALSCALE:GREGORIAN
METHOD:PUBLISH
X-WR-CALNAME:連法國際實業股份有限公司
X-ORIGINAL-URL:https://www.lanfar.com
X-WR-CALDESC:Events for 連法國際實業股份有限公司
REFRESH-INTERVAL;VALUE=DURATION:PT1H
X-Robots-Tag:noindex
X-PUBLISHED-TTL:PT1H
BEGIN:VTIMEZONE
TZID:Asia/Shanghai
BEGIN:STANDARD
TZOFFSETFROM:+0800
TZOFFSETTO:+0800
TZNAME:CST
DTSTART:20250101T000000
END:STANDARD
END:VTIMEZONE
BEGIN:VEVENT
DTSTART;VALUE=DATE:20250501
DTEND;VALUE=DATE:20250502
DTSTAMP:20260426T104811
CREATED:20250425T120327Z
LAST-MODIFIED:20250430T100122Z
UID:51028-1746057600-1746143999@www.lanfar.com
SUMMARY:勞動節
DESCRIPTION: 
URL:https://www.lanfar.com/event/%e5%8b%9e%e5%8b%95%e7%af%80-2025-05-01/
CATEGORIES:全部,桃園,台中,台南,高雄,節日
END:VEVENT
BEGIN:VEVENT
DTSTART;TZID=Asia/Shanghai:20250506T193000
DTEND;TZID=Asia/Shanghai:20250506T210000
DTSTAMP:20260426T104811
CREATED:20250425T111354Z
LAST-MODIFIED:20250430T091416Z
UID:50966-1746559800-1746565200@www.lanfar.com
SUMMARY:桃園 新品上市講座
DESCRIPTION: 
URL:https://www.lanfar.com/event/%e6%a1%83%e5%9c%92-%e6%96%b0%e5%93%81%e4%b8%8a%e5%b8%82%e8%ac%9b%e5%ba%a7-2025-05-06/
LOCATION:北區桃園營業處 下午7:30\, 桃園市桃園區復興路207號18樓之1
CATEGORIES:全部,桃園
END:VEVENT
BEGIN:VEVENT
DTSTART;TZID=Asia/Shanghai:20250513T193000
DTEND;TZID=Asia/Shanghai:20250513T210000
DTSTAMP:20260426T104811
CREATED:20250425T111525Z
LAST-MODIFIED:20250430T091543Z
UID:50970-1747164600-1747170000@www.lanfar.com
SUMMARY:桃園 事業說明會
DESCRIPTION: 
URL:https://www.lanfar.com/event/%e6%a1%83%e5%9c%92-%e4%ba%8b%e6%a5%ad%e8%aa%aa%e6%98%8e%e6%9c%83-2025-05-13/
LOCATION:北區桃園營業處 下午7:30\, 桃園市桃園區復興路207號18樓之1
CATEGORIES:全部,桃園
END:VEVENT
BEGIN:VEVENT
DTSTART;TZID=Asia/Shanghai:20250518T130000
DTEND;TZID=Asia/Shanghai:20250518T170000
DTSTAMP:20260426T104811
CREATED:20250425T120048Z
LAST-MODIFIED:20250425T120214Z
UID:51021-1747573200-1747587600@www.lanfar.com
SUMMARY:連法33週年慶
DESCRIPTION: 
URL:https://www.lanfar.com/event/%e9%80%a3%e6%b3%9533%e9%80%b1%e5%b9%b4%e6%85%b6-2025-05-18/
LOCATION:高雄萬豪酒店8樓 萬享宴會廳\, 高雄市鼓山區龍德新路222號8F
CATEGORIES:全部,桃園,台中,台南,高雄
END:VEVENT
BEGIN:VEVENT
DTSTART;TZID=Asia/Shanghai:20250520T193000
DTEND;TZID=Asia/Shanghai:20250520T210000
DTSTAMP:20260426T104811
CREATED:20250425T112142Z
LAST-MODIFIED:20250430T091917Z
UID:50975-1747769400-1747774800@www.lanfar.com
SUMMARY:桃園 說故事分享會
DESCRIPTION: 
URL:https://www.lanfar.com/event/%e6%a1%83%e5%9c%92-%e8%aa%aa%e6%95%85%e4%ba%8b%e5%88%86%e4%ba%ab%e6%9c%83-2025-05-20/
LOCATION:北區桃園營業處 下午7:30\, 桃園市桃園區復興路207號18樓之1
CATEGORIES:全部,桃園
END:VEVENT
BEGIN:VEVENT
DTSTART;TZID=Asia/Shanghai:20250527T193000
DTEND;TZID=Asia/Shanghai:20250527T210000
DTSTAMP:20260426T104811
CREATED:20250425T114009Z
LAST-MODIFIED:20250430T092056Z
UID:50986-1748374200-1748379600@www.lanfar.com
SUMMARY:桃園 賜多利同樂會
DESCRIPTION: 
URL:https://www.lanfar.com/event/%e6%a1%83%e5%9c%92-%e8%b3%9c%e5%a4%9a%e5%88%a9%e5%90%8c%e6%a8%82%e6%9c%83-2025-05-27/
LOCATION:北區桃園營業處 下午7:30\, 桃園市桃園區復興路207號18樓之1
CATEGORIES:全部,桃園
END:VEVENT
BEGIN:VEVENT
DTSTART;VALUE=DATE:20250530
DTEND;VALUE=DATE:20250531
DTSTAMP:20260426T104811
CREATED:20250425T120410Z
LAST-MODIFIED:20250430T100105Z
UID:51031-1748563200-1748649599@www.lanfar.com
SUMMARY:端午節
DESCRIPTION: 
URL:https://www.lanfar.com/event/%e7%ab%af%e5%8d%88%e7%af%80-2025-05-30/
CATEGORIES:全部,桃園,台中,台南,高雄,節日
END:VEVENT
BEGIN:VEVENT
DTSTART;VALUE=DATE:20250531
DTEND;VALUE=DATE:20250601
DTSTAMP:20260426T104811
CREATED:20250425T120458Z
LAST-MODIFIED:20250430T100103Z
UID:51035-1748649600-1748735999@www.lanfar.com
SUMMARY:端午節
DESCRIPTION: 
URL:https://www.lanfar.com/event/%e7%ab%af%e5%8d%88%e7%af%80-2025-05-31/
CATEGORIES:全部,桃園,台中,台南,高雄,節日
END:VEVENT
END:VCALENDAR