BEGIN:VCALENDAR
VERSION:2.0
PRODID:-//連法國際實業股份有限公司 - ECPv5.12.3//NONSGML v1.0//EN
CALSCALE:GREGORIAN
METHOD:PUBLISH
X-WR-CALNAME:連法國際實業股份有限公司
X-ORIGINAL-URL:https://www.lanfar.com
X-WR-CALDESC:Events for 連法國際實業股份有限公司
REFRESH-INTERVAL;VALUE=DURATION:PT1H
X-Robots-Tag:noindex
X-PUBLISHED-TTL:PT1H
BEGIN:VTIMEZONE
TZID:Asia/Shanghai
BEGIN:STANDARD
TZOFFSETFROM:+0800
TZOFFSETTO:+0800
TZNAME:CST
DTSTART:20250101T000000
END:STANDARD
END:VTIMEZONE
BEGIN:VEVENT
DTSTART;TZID=Asia/Shanghai:20250901T193000
DTEND;TZID=Asia/Shanghai:20250901T210000
DTSTAMP:20260426T055215
CREATED:20250825T102057Z
LAST-MODIFIED:20250828T020042Z
UID:56984-1756755000-1756760400@www.lanfar.com
SUMMARY:台南 事業說明會
DESCRIPTION:
URL:https://www.lanfar.com/event/%e5%8f%b0%e5%8d%97-%e4%ba%8b%e6%a5%ad%e8%aa%aa%e6%98%8e%e6%9c%83-2025-09-01/
LOCATION:南區台南營業處 下午7:30\, 台南市東區大同路2段615號6樓
CATEGORIES:全部,台南
END:VEVENT
BEGIN:VEVENT
DTSTART;TZID=Asia/Shanghai:20250908T193000
DTEND;TZID=Asia/Shanghai:20250908T210000
DTSTAMP:20260426T055215
CREATED:20250825T102140Z
LAST-MODIFIED:20250828T020210Z
UID:56989-1757359800-1757365200@www.lanfar.com
SUMMARY:台南 健康講座
DESCRIPTION:
URL:https://www.lanfar.com/event/%e5%8f%b0%e5%8d%97-%e5%81%a5%e5%ba%b7%e8%ac%9b%e5%ba%a7-2025-09-08/
LOCATION:南區台南營業處 下午7:30\, 台南市東區大同路2段615號6樓
CATEGORIES:全部,台南
END:VEVENT
BEGIN:VEVENT
DTSTART;TZID=Asia/Shanghai:20250915T193000
DTEND;TZID=Asia/Shanghai:20250915T210000
DTSTAMP:20260426T055215
CREATED:20250825T102246Z
LAST-MODIFIED:20250828T020607Z
UID:56993-1757964600-1757970000@www.lanfar.com
SUMMARY:台南 說故事分享會
DESCRIPTION:
URL:https://www.lanfar.com/event/%e5%8f%b0%e5%8d%97-%e8%aa%aa%e6%95%85%e4%ba%8b%e5%88%86%e4%ba%ab%e6%9c%83-2025-09-15/
LOCATION:南區台南營業處 下午7:30\, 台南市東區大同路2段615號6樓
CATEGORIES:全部,台南
END:VEVENT
BEGIN:VEVENT
DTSTART;TZID=Asia/Shanghai:20250920T140000
DTEND;TZID=Asia/Shanghai:20250920T180000
DTSTAMP:20260426T055215
CREATED:20250825T104033Z
LAST-MODIFIED:20250901T064825Z
UID:57053-1758376800-1758391200@www.lanfar.com
SUMMARY:台南 基座訓練
DESCRIPTION:
URL:https://www.lanfar.com/event/%e5%8f%b0%e5%8d%97-%e5%9f%ba%e5%ba%a7%e8%a8%93%e7%b7%b4-2025-09-20/
LOCATION:南區台南營業處 下午2:00\, 台南市東區大同路2段615號6樓
CATEGORIES:全部,台南
END:VEVENT
BEGIN:VEVENT
DTSTART;TZID=Asia/Shanghai:20250922T193000
DTEND;TZID=Asia/Shanghai:20250922T210000
DTSTAMP:20260426T055215
CREATED:20250825T102358Z
LAST-MODIFIED:20250828T020904Z
UID:56997-1758569400-1758574800@www.lanfar.com
SUMMARY:台南 事業說明會
DESCRIPTION:
URL:https://www.lanfar.com/event/%e5%8f%b0%e5%8d%97-%e4%ba%8b%e6%a5%ad%e8%aa%aa%e6%98%8e%e6%9c%83-2025-09-22/
LOCATION:南區台南營業處 下午7:30\, 台南市東區大同路2段615號6樓
CATEGORIES:全部,台南
END:VEVENT
END:VCALENDAR