BEGIN:VCALENDAR
VERSION:2.0
PRODID:-//連法國際實業股份有限公司 - ECPv5.12.3//NONSGML v1.0//EN
CALSCALE:GREGORIAN
METHOD:PUBLISH
X-WR-CALNAME:連法國際實業股份有限公司
X-ORIGINAL-URL:https://www.lanfar.com
X-WR-CALDESC:Events for 連法國際實業股份有限公司
REFRESH-INTERVAL;VALUE=DURATION:PT1H
X-Robots-Tag:noindex
X-PUBLISHED-TTL:PT1H
BEGIN:VTIMEZONE
TZID:Asia/Shanghai
BEGIN:STANDARD
TZOFFSETFROM:+0800
TZOFFSETTO:+0800
TZNAME:CST
DTSTART:20260101T000000
END:STANDARD
END:VTIMEZONE
BEGIN:VEVENT
DTSTART;VALUE=DATE:20260403
DTEND;VALUE=DATE:20260404
DTSTAMP:20260420T000219
CREATED:20260327T054643Z
LAST-MODIFIED:20260327T054644Z
UID:67064-1775174400-1775260799@www.lanfar.com
SUMMARY:節日補假
DESCRIPTION:
URL:https://www.lanfar.com/event/%e7%af%80%e6%97%a5%e8%a3%9c%e5%81%87-2026-04-03/
CATEGORIES:全部,桃園,台中,台南,高雄
END:VEVENT
BEGIN:VEVENT
DTSTART;VALUE=DATE:20260404
DTEND;VALUE=DATE:20260405
DTSTAMP:20260420T000219
CREATED:20260327T042953Z
LAST-MODIFIED:20260327T042954Z
UID:67058-1775260800-1775347199@www.lanfar.com
SUMMARY:兒童節
DESCRIPTION:
URL:https://www.lanfar.com/event/%e5%85%92%e7%ab%a5%e7%af%80-2026-04-04/
CATEGORIES:全部,桃園,台中,台南,高雄
END:VEVENT
BEGIN:VEVENT
DTSTART;VALUE=DATE:20260405
DTEND;VALUE=DATE:20260406
DTSTAMP:20260420T000219
CREATED:20260327T043013Z
LAST-MODIFIED:20260327T043014Z
UID:67061-1775347200-1775433599@www.lanfar.com
SUMMARY:清明節
DESCRIPTION:
URL:https://www.lanfar.com/event/%e6%b8%85%e6%98%8e%e7%af%80-2026-04-05/
CATEGORIES:全部,桃園,台中,台南,高雄
END:VEVENT
BEGIN:VEVENT
DTSTART;VALUE=DATE:20260406
DTEND;VALUE=DATE:20260407
DTSTAMP:20260420T000219
CREATED:20260327T090314Z
LAST-MODIFIED:20260327T090316Z
UID:67067-1775433600-1775519999@www.lanfar.com
SUMMARY:節日補假
DESCRIPTION:
URL:https://www.lanfar.com/event/%e7%af%80%e6%97%a5%e8%a3%9c%e5%81%87-2026-04-06/
CATEGORIES:全部,桃園,台中,台南,高雄
END:VEVENT
BEGIN:VEVENT
DTSTART;TZID=Asia/Shanghai:20260413T193000
DTEND;TZID=Asia/Shanghai:20260413T210000
DTSTAMP:20260420T000219
CREATED:20260327T041035Z
LAST-MODIFIED:20260330T023529Z
UID:66983-1776108600-1776114000@www.lanfar.com
SUMMARY:台南 健康講座
DESCRIPTION:
URL:https://www.lanfar.com/event/%e5%8f%b0%e5%8d%97-%e5%81%a5%e5%ba%b7%e8%ac%9b%e5%ba%a7-2026-04-13/
LOCATION:南區台南營業處 下午7:30\, 台南市東區大同路2段615號6樓
CATEGORIES:全部,台南
END:VEVENT
BEGIN:VEVENT
DTSTART;TZID=Asia/Shanghai:20260418T100000
DTEND;TZID=Asia/Shanghai:20260418T170000
DTSTAMP:20260420T000219
CREATED:20260327T093213Z
LAST-MODIFIED:20260401T015435Z
UID:67073-1776506400-1776531600@www.lanfar.com
SUMMARY:台南 成長課程
DESCRIPTION:
URL:https://www.lanfar.com/event/%e5%8f%b0%e5%8d%97-%e6%88%90%e9%95%b7%e8%aa%b2%e7%a8%8b-2026-04-18/
LOCATION:南區台南營業處 上午10:00\, 台南市東區大同路2段615號6樓
CATEGORIES:全部,台南
END:VEVENT
BEGIN:VEVENT
DTSTART;TZID=Asia/Shanghai:20260420T193000
DTEND;TZID=Asia/Shanghai:20260420T210000
DTSTAMP:20260420T000219
CREATED:20260327T041122Z
LAST-MODIFIED:20260330T023719Z
UID:66987-1776713400-1776718800@www.lanfar.com
SUMMARY:台南 事業說明會
DESCRIPTION: 
URL:https://www.lanfar.com/event/%e5%8f%b0%e5%8d%97-%e4%ba%8b%e6%a5%ad%e8%aa%aa%e6%98%8e%e6%9c%83-2026-04-20/
LOCATION:南區台南營業處 下午7:30\, 台南市東區大同路2段615號6樓
CATEGORIES:全部,台南
END:VEVENT
BEGIN:VEVENT
DTSTART;TZID=Asia/Shanghai:20260427T193000
DTEND;TZID=Asia/Shanghai:20260427T210000
DTSTAMP:20260420T000219
CREATED:20260327T041410Z
LAST-MODIFIED:20260330T023943Z
UID:66996-1777318200-1777323600@www.lanfar.com
SUMMARY:台南 事業說明會
DESCRIPTION:
URL:https://www.lanfar.com/event/%e5%8f%b0%e5%8d%97-%e4%ba%8b%e6%a5%ad%e8%aa%aa%e6%98%8e%e6%9c%83-2026-04-27/
LOCATION:南區台南營業處 下午7:30\, 台南市東區大同路2段615號6樓
CATEGORIES:全部,台南
END:VEVENT
BEGIN:VEVENT
DTSTART;VALUE=DATE:20260430
DTEND;VALUE=DATE:20260501
DTSTAMP:20260420T000219
CREATED:20260327T091916Z
LAST-MODIFIED:20260327T091919Z
UID:67070-1777507200-1777593599@www.lanfar.com
SUMMARY:業績結算日
DESCRIPTION:
URL:https://www.lanfar.com/event/%e6%a5%ad%e7%b8%be%e7%b5%90%e7%ae%97%e6%97%a5-2026-04-30/
CATEGORIES:全部,桃園,台中,台南,高雄
END:VEVENT
END:VCALENDAR