BEGIN:VCALENDAR
VERSION:2.0
PRODID:-//連法國際實業股份有限公司 - ECPv5.12.3//NONSGML v1.0//EN
CALSCALE:GREGORIAN
METHOD:PUBLISH
X-WR-CALNAME:連法國際實業股份有限公司
X-ORIGINAL-URL:https://www.lanfar.com
X-WR-CALDESC:Events for 連法國際實業股份有限公司
REFRESH-INTERVAL;VALUE=DURATION:PT1H
X-Robots-Tag:noindex
X-PUBLISHED-TTL:PT1H
BEGIN:VTIMEZONE
TZID:Asia/Shanghai
BEGIN:STANDARD
TZOFFSETFROM:+0800
TZOFFSETTO:+0800
TZNAME:CST
DTSTART:20260101T000000
END:STANDARD
END:VTIMEZONE
BEGIN:VEVENT
DTSTART;TZID=Asia/Shanghai:20260107T193000
DTEND;TZID=Asia/Shanghai:20260107T210000
DTSTAMP:20260425T185822
CREATED:20251226T105037Z
LAST-MODIFIED:20251231T024319Z
UID:62992-1767814200-1767819600@www.lanfar.com
SUMMARY:台中 事業說明會
DESCRIPTION: 
URL:https://www.lanfar.com/event/%e5%8f%b0%e4%b8%ad-%e4%ba%8b%e6%a5%ad%e8%aa%aa%e6%98%8e%e6%9c%83-2026-01-07/
LOCATION:中區台中營業處 下午7:30\, 台中市西區五權路1-67號19樓
CATEGORIES:全部,台中
END:VEVENT
BEGIN:VEVENT
DTSTART;TZID=Asia/Shanghai:20260114T193000
DTEND;TZID=Asia/Shanghai:20260114T210000
DTSTAMP:20260425T185822
CREATED:20251226T105237Z
LAST-MODIFIED:20251231T024532Z
UID:62996-1768419000-1768424400@www.lanfar.com
SUMMARY:台中 說故事分享會
DESCRIPTION: 
URL:https://www.lanfar.com/event/%e5%8f%b0%e4%b8%ad-%e8%aa%aa%e6%95%85%e4%ba%8b%e5%88%86%e4%ba%ab%e6%9c%83-2026-01-14/
LOCATION:中區台中營業處 下午7:30\, 台中市西區五權路1-67號19樓
CATEGORIES:全部,台中
END:VEVENT
BEGIN:VEVENT
DTSTART;TZID=Asia/Shanghai:20260121T193000
DTEND;TZID=Asia/Shanghai:20260121T210000
DTSTAMP:20260425T185822
CREATED:20251226T105541Z
LAST-MODIFIED:20260119T031030Z
UID:63000-1769023800-1769029200@www.lanfar.com
SUMMARY:台中 NDO訓練
DESCRIPTION: 
URL:https://www.lanfar.com/event/%e5%8f%b0%e4%b8%ad-ndo%e8%a8%93%e7%b7%b4-2026-01-21/
LOCATION:中區台中營業處 下午7:30\, 台中市西區五權路1-67號19樓
CATEGORIES:全部,台中
END:VEVENT
BEGIN:VEVENT
DTSTART;TZID=Asia/Shanghai:20260128T183000
DTEND;TZID=Asia/Shanghai:20260128T210000
DTSTAMP:20260425T185822
CREATED:20251226T105742Z
LAST-MODIFIED:20260122T035655Z
UID:63004-1769625000-1769634000@www.lanfar.com
SUMMARY:台中 賜多利同樂會暨一人一道菜
DESCRIPTION: 
URL:https://www.lanfar.com/event/%e5%8f%b0%e4%b8%ad-%e8%b3%9c%e5%a4%9a%e5%88%a9%e5%90%8c%e6%a8%82%e6%9c%83%e6%9a%a8%e4%b8%80%e4%ba%ba%e4%b8%80%e9%81%93%e8%8f%9c-2026-01-28/
LOCATION:中區台中營業處 下午6:30
CATEGORIES:全部,台中
END:VEVENT
END:VCALENDAR