BEGIN:VCALENDAR
VERSION:2.0
PRODID:-//連法國際實業股份有限公司 - ECPv5.12.3//NONSGML v1.0//EN
CALSCALE:GREGORIAN
METHOD:PUBLISH
X-WR-CALNAME:連法國際實業股份有限公司
X-ORIGINAL-URL:https://www.lanfar.com
X-WR-CALDESC:Events for 連法國際實業股份有限公司
REFRESH-INTERVAL;VALUE=DURATION:PT1H
X-Robots-Tag:noindex
X-PUBLISHED-TTL:PT1H
BEGIN:VTIMEZONE
TZID:Asia/Shanghai
BEGIN:STANDARD
TZOFFSETFROM:+0800
TZOFFSETTO:+0800
TZNAME:CST
DTSTART:20250101T000000
END:STANDARD
END:VTIMEZONE
BEGIN:VEVENT
DTSTART;TZID=Asia/Shanghai:20251002T193000
DTEND;TZID=Asia/Shanghai:20251002T210000
DTSTAMP:20260426T021237
CREATED:20250926T114032Z
LAST-MODIFIED:20250930T073523Z
UID:58603-1759433400-1759438800@www.lanfar.com
SUMMARY:高雄 事業說明會
DESCRIPTION: 
URL:https://www.lanfar.com/event/%e9%ab%98%e9%9b%84-%e4%ba%8b%e6%a5%ad%e8%aa%aa%e6%98%8e%e6%9c%83-2025-10-02/
LOCATION:南區高雄營業處 下午7:30\, 高雄市前鎮區一心一路241號7樓
CATEGORIES:全部,高雄
END:VEVENT
BEGIN:VEVENT
DTSTART;TZID=Asia/Shanghai:20251007T143000
DTEND;TZID=Asia/Shanghai:20251007T160000
DTSTAMP:20260426T021237
CREATED:20250926T101427Z
LAST-MODIFIED:20250930T073546Z
UID:58566-1759847400-1759852800@www.lanfar.com
SUMMARY:屏東 事業說明會
DESCRIPTION: 
URL:https://www.lanfar.com/event/%e5%b1%8f%e6%9d%b1-%e4%ba%8b%e6%a5%ad%e8%aa%aa%e6%98%8e%e6%9c%83-2025-10-07/
LOCATION:勞動暨青年發展處 下午2:30\, 屏東縣屏東市自由路17號
CATEGORIES:全部,高雄
END:VEVENT
BEGIN:VEVENT
DTSTART;TZID=Asia/Shanghai:20251009T193000
DTEND;TZID=Asia/Shanghai:20251009T210000
DTSTAMP:20260426T021237
CREATED:20250926T114206Z
LAST-MODIFIED:20250930T073703Z
UID:58607-1760038200-1760043600@www.lanfar.com
SUMMARY:高雄 健康講座
DESCRIPTION: 
URL:https://www.lanfar.com/event/%e9%ab%98%e9%9b%84-%e5%81%a5%e5%ba%b7%e8%ac%9b%e5%ba%a7-2025-10-09/
LOCATION:南區高雄營業處 下午7:30\, 高雄市前鎮區一心一路241號7樓
CATEGORIES:全部,高雄
END:VEVENT
BEGIN:VEVENT
DTSTART;TZID=Asia/Shanghai:20251014T143000
DTEND;TZID=Asia/Shanghai:20251014T160000
DTSTAMP:20260426T021237
CREATED:20250926T103056Z
LAST-MODIFIED:20250930T073739Z
UID:58574-1760452200-1760457600@www.lanfar.com
SUMMARY:屏東 說故事分享會
DESCRIPTION: 
URL:https://www.lanfar.com/event/%e5%b1%8f%e6%9d%b1-%e8%aa%aa%e6%95%85%e4%ba%8b%e5%88%86%e4%ba%ab%e6%9c%83-2025-10-14/
LOCATION:勞動暨青年發展處 下午2:30\, 屏東縣屏東市自由路17號
CATEGORIES:全部,高雄
END:VEVENT
BEGIN:VEVENT
DTSTART;TZID=Asia/Shanghai:20251016T193000
DTEND;TZID=Asia/Shanghai:20251016T210000
DTSTAMP:20260426T021237
CREATED:20250930T085739Z
LAST-MODIFIED:20250930T085932Z
UID:58707-1760643000-1760648400@www.lanfar.com
SUMMARY:高雄 說故事分享會
DESCRIPTION: 
URL:https://www.lanfar.com/event/%e9%ab%98%e9%9b%84-%e8%aa%aa%e6%95%85%e4%ba%8b%e5%88%86%e4%ba%ab%e6%9c%83-2025-10-16/
LOCATION:南區高雄營業處 下午7:30\, 高雄市前鎮區一心一路241號7樓
CATEGORIES:全部,高雄
END:VEVENT
BEGIN:VEVENT
DTSTART;TZID=Asia/Shanghai:20251023T193000
DTEND;TZID=Asia/Shanghai:20251023T210000
DTSTAMP:20260426T021237
CREATED:20250926T115717Z
LAST-MODIFIED:20250930T074128Z
UID:58611-1761247800-1761253200@www.lanfar.com
SUMMARY:高雄 事業分享會
DESCRIPTION: 
URL:https://www.lanfar.com/event/%e9%ab%98%e9%9b%84-%e4%ba%8b%e6%a5%ad%e5%88%86%e4%ba%ab%e6%9c%83-2025-10-23/
LOCATION:南區高雄營業處 下午7:30\, 高雄市前鎮區一心一路241號7樓
CATEGORIES:全部,高雄
END:VEVENT
BEGIN:VEVENT
DTSTART;TZID=Asia/Shanghai:20251030T193000
DTEND;TZID=Asia/Shanghai:20251030T213000
DTSTAMP:20260426T021237
CREATED:20250926T120218Z
LAST-MODIFIED:20250930T074239Z
UID:58615-1761852600-1761859800@www.lanfar.com
SUMMARY:高雄 事業說明會
DESCRIPTION: 
URL:https://www.lanfar.com/event/%e9%ab%98%e9%9b%84-%e4%ba%8b%e6%a5%ad%e8%aa%aa%e6%98%8e%e6%9c%83-2025-10-30/
LOCATION:南區高雄營業處 下午7:30\, 高雄市前鎮區一心一路241號7樓
CATEGORIES:全部,高雄
END:VEVENT
END:VCALENDAR