BEGIN:VCALENDAR
VERSION:2.0
PRODID:-//連法國際實業股份有限公司 - ECPv5.12.3//NONSGML v1.0//EN
CALSCALE:GREGORIAN
METHOD:PUBLISH
X-WR-CALNAME:連法國際實業股份有限公司
X-ORIGINAL-URL:https://www.lanfar.com
X-WR-CALDESC:Events for 連法國際實業股份有限公司
REFRESH-INTERVAL;VALUE=DURATION:PT1H
X-Robots-Tag:noindex
X-PUBLISHED-TTL:PT1H
BEGIN:VTIMEZONE
TZID:Asia/Shanghai
BEGIN:STANDARD
TZOFFSETFROM:+0800
TZOFFSETTO:+0800
TZNAME:CST
DTSTART:20250101T000000
END:STANDARD
END:VTIMEZONE
BEGIN:VEVENT
DTSTART;TZID=Asia/Shanghai:20250605T193000
DTEND;TZID=Asia/Shanghai:20250605T210000
DTSTAMP:20260426T091412
CREATED:20250526T105044Z
LAST-MODIFIED:20250529T064811Z
UID:52480-1749151800-1749157200@www.lanfar.com
SUMMARY:高雄 健康講座
DESCRIPTION: 
URL:https://www.lanfar.com/event/%e9%ab%98%e9%9b%84-%e5%81%a5%e5%ba%b7%e8%ac%9b%e5%ba%a7-2025-06-05/
LOCATION:南區高雄營業處 下午7:30\, 高雄市前鎮區一心一路241號7樓
CATEGORIES:全部,高雄
END:VEVENT
BEGIN:VEVENT
DTSTART;TZID=Asia/Shanghai:20250607T093000
DTEND;TZID=Asia/Shanghai:20250607T173000
DTSTAMP:20260426T091412
CREATED:20250526T103935Z
LAST-MODIFIED:20250526T103959Z
UID:52457-1749288600-1749317400@www.lanfar.com
SUMMARY:高雄 講師訓練
DESCRIPTION: 
URL:https://www.lanfar.com/event/%e9%ab%98%e9%9b%84-%e8%ac%9b%e5%b8%ab%e8%a8%93%e7%b7%b4-2025-06-07/
LOCATION:南區高雄營業處 上午9:30\, 高雄市前鎮區一心一路241號7樓
CATEGORIES:全部,高雄
END:VEVENT
BEGIN:VEVENT
DTSTART;TZID=Asia/Shanghai:20250610T143000
DTEND;TZID=Asia/Shanghai:20250610T160000
DTSTAMP:20260426T091412
CREATED:20250526T101639Z
LAST-MODIFIED:20250529T064851Z
UID:52401-1749565800-1749571200@www.lanfar.com
SUMMARY:屏東 事業說明會
DESCRIPTION: 
URL:https://www.lanfar.com/event/%e5%b1%8f%e6%9d%b1-%e4%ba%8b%e6%a5%ad%e8%aa%aa%e6%98%8e%e6%9c%83-2025-06-10/
LOCATION:勞動暨青年發展處 下午2:30\, 屏東縣屏東市自由路17號
CATEGORIES:全部,高雄
END:VEVENT
BEGIN:VEVENT
DTSTART;TZID=Asia/Shanghai:20250612T190000
DTEND;TZID=Asia/Shanghai:20250612T210000
DTSTAMP:20260426T091412
CREATED:20250526T103336Z
LAST-MODIFIED:20250609T102726Z
UID:52441-1749754800-1749762000@www.lanfar.com
SUMMARY:高雄 成長講座
DESCRIPTION: 
URL:https://www.lanfar.com/event/%e9%ab%98%e9%9b%84-%e6%88%90%e9%95%b7%e8%ac%9b%e5%ba%a7-2025-06-12/
LOCATION:南區高雄營業處 下午7:00\, 高雄市前鎮區一心一路241號7樓
CATEGORIES:全部,高雄
END:VEVENT
BEGIN:VEVENT
DTSTART;TZID=Asia/Shanghai:20250617T133000
DTEND;TZID=Asia/Shanghai:20250617T173000
DTSTAMP:20260426T091412
CREATED:20250526T102323Z
LAST-MODIFIED:20250602T035610Z
UID:52410-1750167000-1750181400@www.lanfar.com
SUMMARY:高雄 基座訓練
DESCRIPTION: 
URL:https://www.lanfar.com/event/%e9%ab%98%e9%9b%84-%e5%9f%ba%e5%ba%a7%e8%a8%93%e7%b7%b4-2025-06-17/
LOCATION:南區高雄營業處 下午1:30\, 高雄市前鎮區一心一路241號7樓
CATEGORIES:全部,高雄
END:VEVENT
BEGIN:VEVENT
DTSTART;TZID=Asia/Shanghai:20250619T193000
DTEND;TZID=Asia/Shanghai:20250619T210000
DTSTAMP:20260426T091412
CREATED:20250526T103437Z
LAST-MODIFIED:20250529T065122Z
UID:52445-1750361400-1750366800@www.lanfar.com
SUMMARY:高雄 說故事分享會
DESCRIPTION: 
URL:https://www.lanfar.com/event/%e9%ab%98%e9%9b%84-%e8%aa%aa%e6%95%85%e4%ba%8b%e5%88%86%e4%ba%ab%e6%9c%83-2025-06-19/
LOCATION:南區高雄營業處 下午7:30\, 高雄市前鎮區一心一路241號7樓
CATEGORIES:全部,高雄
END:VEVENT
BEGIN:VEVENT
DTSTART;TZID=Asia/Shanghai:20250624T143000
DTEND;TZID=Asia/Shanghai:20250624T163000
DTSTAMP:20260426T091412
CREATED:20250526T102642Z
LAST-MODIFIED:20250529T065305Z
UID:52418-1750775400-1750782600@www.lanfar.com
SUMMARY:屏東 說故事分享會
DESCRIPTION: 
URL:https://www.lanfar.com/event/%e5%b1%8f%e6%9d%b1-%e8%aa%aa%e6%95%85%e4%ba%8b%e5%88%86%e4%ba%ab%e6%9c%83-2025-06-24/
LOCATION:勞動暨青年發展處 下午2:30\, 屏東縣屏東市自由路17號
CATEGORIES:全部,高雄
END:VEVENT
BEGIN:VEVENT
DTSTART;TZID=Asia/Shanghai:20250626T193000
DTEND;TZID=Asia/Shanghai:20250626T210000
DTSTAMP:20260426T091412
CREATED:20250526T103537Z
LAST-MODIFIED:20250529T065409Z
UID:52449-1750966200-1750971600@www.lanfar.com
SUMMARY:高雄 事業說明會
DESCRIPTION: 
URL:https://www.lanfar.com/event/%e9%ab%98%e9%9b%84-%e4%ba%8b%e6%a5%ad%e8%aa%aa%e6%98%8e%e6%9c%83-2025-06-26/
LOCATION:南區高雄營業處 下午7:30\, 高雄市前鎮區一心一路241號7樓
CATEGORIES:全部,高雄
END:VEVENT
END:VCALENDAR