BEGIN:VCALENDAR
VERSION:2.0
PRODID:-//連法國際實業股份有限公司 - ECPv5.12.3//NONSGML v1.0//EN
CALSCALE:GREGORIAN
METHOD:PUBLISH
X-WR-CALNAME:連法國際實業股份有限公司
X-ORIGINAL-URL:https://www.lanfar.com
X-WR-CALDESC:Events for 連法國際實業股份有限公司
REFRESH-INTERVAL;VALUE=DURATION:PT1H
X-Robots-Tag:noindex
X-PUBLISHED-TTL:PT1H
BEGIN:VTIMEZONE
TZID:Asia/Shanghai
BEGIN:STANDARD
TZOFFSETFROM:+0800
TZOFFSETTO:+0800
TZNAME:CST
DTSTART:20250101T000000
END:STANDARD
END:VTIMEZONE
BEGIN:VEVENT
DTSTART;VALUE=DATE:20250501
DTEND;VALUE=DATE:20250502
DTSTAMP:20260426T123943
CREATED:20250425T120327Z
LAST-MODIFIED:20250430T100122Z
UID:51028-1746057600-1746143999@www.lanfar.com
SUMMARY:勞動節
DESCRIPTION: 
URL:https://www.lanfar.com/event/%e5%8b%9e%e5%8b%95%e7%af%80-2025-05-01/
CATEGORIES:全部,桃園,台中,台南,高雄,節日
END:VEVENT
END:VCALENDAR