BEGIN:VCALENDAR
VERSION:2.0
PRODID:-//連法國際實業股份有限公司 - ECPv5.12.3//NONSGML v1.0//EN
CALSCALE:GREGORIAN
METHOD:PUBLISH
X-WR-CALNAME:連法國際實業股份有限公司
X-ORIGINAL-URL:https://www.lanfar.com
X-WR-CALDESC:Events for 連法國際實業股份有限公司
REFRESH-INTERVAL;VALUE=DURATION:PT1H
X-Robots-Tag:noindex
X-PUBLISHED-TTL:PT1H
BEGIN:VTIMEZONE
TZID:Asia/Shanghai
BEGIN:STANDARD
TZOFFSETFROM:+0800
TZOFFSETTO:+0800
TZNAME:CST
DTSTART:20260101T000000
END:STANDARD
END:VTIMEZONE
BEGIN:VEVENT
DTSTART;TZID=Asia/Shanghai:20260202T193000
DTEND;TZID=Asia/Shanghai:20260202T210000
DTSTAMP:20260420T011450
CREATED:20260123T111444Z
LAST-MODIFIED:20260130T062005Z
UID:64334-1770060600-1770066000@www.lanfar.com
SUMMARY:台南 事業說明會
DESCRIPTION: 
URL:https://www.lanfar.com/event/%e5%8f%b0%e5%8d%97-%e4%ba%8b%e6%a5%ad%e8%aa%aa%e6%98%8e%e6%9c%83-2026-02-02/
LOCATION:南區台南營業處 下午7:30\, 台南市東區大同路2段615號6樓
CATEGORIES:全部,台南
END:VEVENT
BEGIN:VEVENT
DTSTART;TZID=Asia/Shanghai:20260203T193000
DTEND;TZID=Asia/Shanghai:20260203T210000
DTSTAMP:20260420T011450
CREATED:20260123T111733Z
LAST-MODIFIED:20260130T062044Z
UID:64347-1770147000-1770152400@www.lanfar.com
SUMMARY:桃園 事業說明會
DESCRIPTION: 
URL:https://www.lanfar.com/event/%e6%a1%83%e5%9c%92-%e4%ba%8b%e6%a5%ad%e8%aa%aa%e6%98%8e%e6%9c%83-2026-02-03/
LOCATION:北區桃園營業處 下午7:30\, 桃園市桃園區復興路207號18樓之1
CATEGORIES:全部,桃園
END:VEVENT
BEGIN:VEVENT
DTSTART;TZID=Asia/Shanghai:20260204T193000
DTEND;TZID=Asia/Shanghai:20260204T210000
DTSTAMP:20260420T011450
CREATED:20260123T112059Z
LAST-MODIFIED:20260130T062105Z
UID:64364-1770233400-1770238800@www.lanfar.com
SUMMARY:台中 事業說明會
DESCRIPTION: 
URL:https://www.lanfar.com/event/%e5%8f%b0%e4%b8%ad-%e4%ba%8b%e6%a5%ad%e8%aa%aa%e6%98%8e%e6%9c%83-2026-02-04/
LOCATION:中區台中營業處 下午7:30\, 台中市西區五權路1-67號19樓
CATEGORIES:全部,台中
END:VEVENT
BEGIN:VEVENT
DTSTART;TZID=Asia/Shanghai:20260205T193000
DTEND;TZID=Asia/Shanghai:20260205T210000
DTSTAMP:20260420T011450
CREATED:20260123T112924Z
LAST-MODIFIED:20260130T062124Z
UID:64387-1770319800-1770325200@www.lanfar.com
SUMMARY:高雄 健康講座
DESCRIPTION: 
URL:https://www.lanfar.com/event/%e9%ab%98%e9%9b%84-%e5%81%a5%e5%ba%b7%e8%ac%9b%e5%ba%a7-2026-02-05/
LOCATION:南區高雄營業處 下午7:30\, 高雄市前鎮區一心一路241號7樓
CATEGORIES:全部,高雄
END:VEVENT
BEGIN:VEVENT
DTSTART;TZID=Asia/Shanghai:20260209T193000
DTEND;TZID=Asia/Shanghai:20260209T210000
DTSTAMP:20260420T011450
CREATED:20260123T111527Z
LAST-MODIFIED:20260209T013356Z
UID:64338-1770665400-1770670800@www.lanfar.com
SUMMARY:台南 事業說明會
DESCRIPTION: 
URL:https://www.lanfar.com/event/%e5%8f%b0%e5%8d%97-%e4%ba%8b%e6%a5%ad%e8%aa%aa%e6%98%8e%e6%9c%83-2026-02-09/
LOCATION:南區台南營業處 下午7:30\, 台南市東區大同路2段615號6樓
CATEGORIES:全部,台南
END:VEVENT
BEGIN:VEVENT
DTSTART;TZID=Asia/Shanghai:20260210T143000
DTEND;TZID=Asia/Shanghai:20260210T160000
DTSTAMP:20260420T011450
CREATED:20260123T111816Z
LAST-MODIFIED:20260130T062144Z
UID:64352-1770733800-1770739200@www.lanfar.com
SUMMARY:屏東 說故事分享會
DESCRIPTION: 
URL:https://www.lanfar.com/event/%e5%b1%8f%e6%9d%b1-%e8%aa%aa%e6%95%85%e4%ba%8b%e5%88%86%e4%ba%ab%e6%9c%83-2026-02-10/
LOCATION:勞動暨青年發展處 下午2:30\, 屏東縣屏東市自由路17號
CATEGORIES:全部,高雄
END:VEVENT
BEGIN:VEVENT
DTSTART;TZID=Asia/Shanghai:20260210T193000
DTEND;TZID=Asia/Shanghai:20260210T210000
DTSTAMP:20260420T011450
CREATED:20260123T111836Z
LAST-MODIFIED:20260130T062208Z
UID:64351-1770751800-1770757200@www.lanfar.com
SUMMARY:桃園 說故事分享會
DESCRIPTION: 
URL:https://www.lanfar.com/event/%e6%a1%83%e5%9c%92-%e8%aa%aa%e6%95%85%e4%ba%8b%e5%88%86%e4%ba%ab%e6%9c%83-2026-02-10/
LOCATION:北區桃園營業處 下午7:30\, 桃園市桃園區復興路207號18樓之1
CATEGORIES:全部,桃園
END:VEVENT
BEGIN:VEVENT
DTSTART;TZID=Asia/Shanghai:20260211T140000
DTEND;TZID=Asia/Shanghai:20260211T180000
DTSTAMP:20260420T011450
CREATED:20260123T112425Z
LAST-MODIFIED:20260202T023152Z
UID:64371-1770818400-1770832800@www.lanfar.com
SUMMARY:台中 基座訓練
DESCRIPTION: 
URL:https://www.lanfar.com/event/%e5%8f%b0%e4%b8%ad-%e5%9f%ba%e5%ba%a7%e8%a8%93%e7%b7%b4-2026-02-11/
LOCATION:中區台中營業處 下午2:00\, 臺中市西區五權路1-67號19樓
CATEGORIES:全部,台中
END:VEVENT
BEGIN:VEVENT
DTSTART;TZID=Asia/Shanghai:20260212T193000
DTEND;TZID=Asia/Shanghai:20260212T210000
DTSTAMP:20260420T011450
CREATED:20260123T113024Z
LAST-MODIFIED:20260130T062231Z
UID:64392-1770924600-1770930000@www.lanfar.com
SUMMARY:高雄 事業說明會
DESCRIPTION: 
URL:https://www.lanfar.com/event/%e9%ab%98%e9%9b%84-%e4%ba%8b%e6%a5%ad%e8%aa%aa%e6%98%8e%e6%9c%83-2026-02-12/
LOCATION:南區高雄營業處 下午7:30\, 高雄市前鎮區一心一路241號7樓
CATEGORIES:全部,高雄
END:VEVENT
BEGIN:VEVENT
DTSTART;TZID=Asia/Shanghai:20260223T193000
DTEND;TZID=Asia/Shanghai:20260223T210000
DTSTAMP:20260420T011450
CREATED:20260123T111655Z
LAST-MODIFIED:20260130T062350Z
UID:64343-1771875000-1771880400@www.lanfar.com
SUMMARY:台南 事業說明會
DESCRIPTION: 
URL:https://www.lanfar.com/event/%e5%8f%b0%e5%8d%97-%e4%ba%8b%e6%a5%ad%e8%aa%aa%e6%98%8e%e6%9c%83-2026-02-23/
LOCATION:南區台南營業處 下午7:30\, 台南市東區大同路2段615號6樓
CATEGORIES:全部,台南
END:VEVENT
BEGIN:VEVENT
DTSTART;TZID=Asia/Shanghai:20260224T143000
DTEND;TZID=Asia/Shanghai:20260224T160000
DTSTAMP:20260420T011450
CREATED:20260123T111944Z
LAST-MODIFIED:20260130T062411Z
UID:64359-1771943400-1771948800@www.lanfar.com
SUMMARY:屏東 事業說明會
DESCRIPTION: 
URL:https://www.lanfar.com/event/%e5%b1%8f%e6%9d%b1-%e4%ba%8b%e6%a5%ad%e8%aa%aa%e6%98%8e%e6%9c%83-2026-02-24/
LOCATION:勞動暨青年發展處 下午2:30\, 屏東縣屏東市自由路17號
CATEGORIES:全部,高雄
END:VEVENT
BEGIN:VEVENT
DTSTART;TZID=Asia/Shanghai:20260224T193000
DTEND;TZID=Asia/Shanghai:20260224T210000
DTSTAMP:20260420T011450
CREATED:20260123T112017Z
LAST-MODIFIED:20260130T062438Z
UID:64360-1771961400-1771966800@www.lanfar.com
SUMMARY:桃園 賜多利同樂會
DESCRIPTION: 
URL:https://www.lanfar.com/event/%e6%a1%83%e5%9c%92-%e8%b3%9c%e5%a4%9a%e5%88%a9%e5%90%8c%e6%a8%82%e6%9c%83-2026-02-24/
LOCATION:北區桃園營業處 下午7:30\, 桃園市桃園區復興路207號18樓之1
CATEGORIES:全部,桃園
END:VEVENT
BEGIN:VEVENT
DTSTART;TZID=Asia/Shanghai:20260225T193000
DTEND;TZID=Asia/Shanghai:20260225T210000
DTSTAMP:20260420T011450
CREATED:20260123T112614Z
LAST-MODIFIED:20260130T062459Z
UID:64379-1772047800-1772053200@www.lanfar.com
SUMMARY:台中 說故事分享會
DESCRIPTION: 
URL:https://www.lanfar.com/event/%e5%8f%b0%e4%b8%ad-%e8%aa%aa%e6%95%85%e4%ba%8b%e5%88%86%e4%ba%ab%e6%9c%83-2026-02-25/
LOCATION:中區台中營業處 下午7:30\, 台中市西區五權路1-67號19樓
CATEGORIES:全部,台中
END:VEVENT
BEGIN:VEVENT
DTSTART;TZID=Asia/Shanghai:20260226T193000
DTEND;TZID=Asia/Shanghai:20260226T210000
DTSTAMP:20260420T011450
CREATED:20260123T113849Z
LAST-MODIFIED:20260130T062519Z
UID:64396-1772134200-1772139600@www.lanfar.com
SUMMARY:高雄 說故事分享會
DESCRIPTION: 
URL:https://www.lanfar.com/event/%e9%ab%98%e9%9b%84-%e8%aa%aa%e6%95%85%e4%ba%8b%e5%88%86%e4%ba%ab%e6%9c%83-2026-02-26/
LOCATION:南區高雄營業處 下午7:30\, 高雄市前鎮區一心一路241號7樓
CATEGORIES:全部,高雄
END:VEVENT
END:VCALENDAR