BEGIN:VCALENDAR
VERSION:2.0
PRODID:-//連法國際實業股份有限公司 - ECPv5.12.3//NONSGML v1.0//EN
CALSCALE:GREGORIAN
METHOD:PUBLISH
X-WR-CALNAME:連法國際實業股份有限公司
X-ORIGINAL-URL:https://www.lanfar.com
X-WR-CALDESC:Events for 連法國際實業股份有限公司
REFRESH-INTERVAL;VALUE=DURATION:PT1H
X-Robots-Tag:noindex
X-PUBLISHED-TTL:PT1H
BEGIN:VTIMEZONE
TZID:Asia/Shanghai
BEGIN:STANDARD
TZOFFSETFROM:+0800
TZOFFSETTO:+0800
TZNAME:CST
DTSTART:20250101T000000
END:STANDARD
END:VTIMEZONE
BEGIN:VEVENT
DTSTART;TZID=Asia/Shanghai:20251103T193000
DTEND;TZID=Asia/Shanghai:20251103T210000
DTSTAMP:20260425T185819
CREATED:20251103T015349Z
LAST-MODIFIED:20251103T031655Z
UID:60104-1762198200-1762203600@www.lanfar.com
SUMMARY:台南 事業說明會
DESCRIPTION: 
URL:https://www.lanfar.com/event/%e5%8f%b0%e5%8d%97-%e4%ba%8b%e6%a5%ad%e8%aa%aa%e6%98%8e%e6%9c%83-2025-11-03/
LOCATION:南區台南營業處 下午7:30\, 台南市東區大同路2段615號6樓
CATEGORIES:全部,台南
END:VEVENT
BEGIN:VEVENT
DTSTART;TZID=Asia/Shanghai:20251104T193000
DTEND;TZID=Asia/Shanghai:20251104T210000
DTSTAMP:20260425T185819
CREATED:20251103T015634Z
LAST-MODIFIED:20251103T031719Z
UID:60120-1762284600-1762290000@www.lanfar.com
SUMMARY:桃園 說故事分享會
DESCRIPTION: 
URL:https://www.lanfar.com/event/%e6%a1%83%e5%9c%92-%e8%aa%aa%e6%95%85%e4%ba%8b%e5%88%86%e4%ba%ab%e6%9c%83-2025-11-04/
LOCATION:北區桃園營業處 下午7:30\, 桃園市桃園區復興路207號18樓之1
CATEGORIES:全部,桃園
END:VEVENT
BEGIN:VEVENT
DTSTART;TZID=Asia/Shanghai:20251105T193000
DTEND;TZID=Asia/Shanghai:20251105T210000
DTSTAMP:20260425T185819
CREATED:20251103T020140Z
LAST-MODIFIED:20251103T031739Z
UID:60138-1762371000-1762376400@www.lanfar.com
SUMMARY:台中 NDO訓練
DESCRIPTION: 
URL:https://www.lanfar.com/event/%e5%8f%b0%e4%b8%ad-ndo%e8%a8%93%e7%b7%b4-2025-11-05/
LOCATION:中區台中營業處 下午7:30\, 台中市西區五權路1-67號19樓
CATEGORIES:全部,台中
END:VEVENT
BEGIN:VEVENT
DTSTART;TZID=Asia/Shanghai:20251106T193000
DTEND;TZID=Asia/Shanghai:20251106T210000
DTSTAMP:20260425T185819
CREATED:20251103T021517Z
LAST-MODIFIED:20251103T031758Z
UID:60162-1762457400-1762462800@www.lanfar.com
SUMMARY:高雄 健康講座
DESCRIPTION: 
URL:https://www.lanfar.com/event/%e9%ab%98%e9%9b%84-%e5%81%a5%e5%ba%b7%e8%ac%9b%e5%ba%a7-2025-11-06/
LOCATION:南區高雄營業處 下午7:30\, 高雄市前鎮區一心一路241號7樓
CATEGORIES:全部,高雄
END:VEVENT
BEGIN:VEVENT
DTSTART;TZID=Asia/Shanghai:20251110T193000
DTEND;TZID=Asia/Shanghai:20251110T210000
DTSTAMP:20260425T185819
CREATED:20251103T015438Z
LAST-MODIFIED:20251103T031911Z
UID:60108-1762803000-1762808400@www.lanfar.com
SUMMARY:台南 健康講座
DESCRIPTION: 
URL:https://www.lanfar.com/event/%e5%8f%b0%e5%8d%97-%e5%81%a5%e5%ba%b7%e8%ac%9b%e5%ba%a7-2025-11-10/
LOCATION:南區台南營業處 下午7:30\, 台南市東區大同路2段615號6樓
CATEGORIES:全部,台南
END:VEVENT
BEGIN:VEVENT
DTSTART;TZID=Asia/Shanghai:20251111T193000
DTEND;TZID=Asia/Shanghai:20251111T210000
DTSTAMP:20260425T185819
CREATED:20251103T015750Z
LAST-MODIFIED:20251103T031938Z
UID:60124-1762889400-1762894800@www.lanfar.com
SUMMARY:桃園 事業說明會
DESCRIPTION: 
URL:https://www.lanfar.com/event/%e6%a1%83%e5%9c%92-%e4%ba%8b%e6%a5%ad%e8%aa%aa%e6%98%8e%e6%9c%83-2025-11-11/
LOCATION:北區桃園營業處 下午7:30\, 桃園市桃園區復興路207號18樓之1
CATEGORIES:全部,桃園
END:VEVENT
BEGIN:VEVENT
DTSTART;TZID=Asia/Shanghai:20251112T140000
DTEND;TZID=Asia/Shanghai:20251112T180000
DTSTAMP:20260425T185819
CREATED:20251103T020603Z
LAST-MODIFIED:20251103T032522Z
UID:60142-1762956000-1762970400@www.lanfar.com
SUMMARY:台南 基座訓練
DESCRIPTION: 
URL:https://www.lanfar.com/event/%e5%8f%b0%e5%8d%97-%e5%9f%ba%e5%ba%a7%e8%a8%93%e7%b7%b4-2025-11-12/
LOCATION:南區台南營業處 下午2:00\, 台南市東區大同路2段615號6樓
CATEGORIES:全部,台南
END:VEVENT
BEGIN:VEVENT
DTSTART;TZID=Asia/Shanghai:20251112T143000
DTEND;TZID=Asia/Shanghai:20251112T160000
DTSTAMP:20260425T185819
CREATED:20251103T020648Z
LAST-MODIFIED:20251103T031956Z
UID:60146-1762957800-1762963200@www.lanfar.com
SUMMARY:屏東 事業說明會
DESCRIPTION: 
URL:https://www.lanfar.com/event/%e5%b1%8f%e6%9d%b1-%e4%ba%8b%e6%a5%ad%e8%aa%aa%e6%98%8e%e6%9c%83-2025-11-12/
LOCATION:勞動暨青年發展處 下午2:30\, 屏東縣屏東市自由路17號
CATEGORIES:全部,高雄
END:VEVENT
BEGIN:VEVENT
DTSTART;TZID=Asia/Shanghai:20251112T193000
DTEND;TZID=Asia/Shanghai:20251112T210000
DTSTAMP:20260425T185819
CREATED:20251103T020745Z
LAST-MODIFIED:20251103T032014Z
UID:60149-1762975800-1762981200@www.lanfar.com
SUMMARY:台中 事業說明會
DESCRIPTION: 
URL:https://www.lanfar.com/event/%e5%8f%b0%e4%b8%ad-%e4%ba%8b%e6%a5%ad%e8%aa%aa%e6%98%8e%e6%9c%83-2025-11-12/
LOCATION:中區台中營業處 下午7:30\, 台中市西區五權路1-67號19樓
CATEGORIES:全部,台中
END:VEVENT
BEGIN:VEVENT
DTSTART;TZID=Asia/Shanghai:20251113T193000
DTEND;TZID=Asia/Shanghai:20251113T210000
DTSTAMP:20260425T185819
CREATED:20251103T021642Z
LAST-MODIFIED:20251103T032036Z
UID:60166-1763062200-1763067600@www.lanfar.com
SUMMARY:高雄 事業分享會
DESCRIPTION: 
URL:https://www.lanfar.com/event/%e9%ab%98%e9%9b%84-%e4%ba%8b%e6%a5%ad%e5%88%86%e4%ba%ab%e6%9c%83-2025-11-13/
LOCATION:南區高雄營業處 下午7:30\, 高雄市前鎮區一心一路241號7樓
CATEGORIES:全部,高雄
END:VEVENT
BEGIN:VEVENT
DTSTART;TZID=Asia/Shanghai:20251115T093000
DTEND;TZID=Asia/Shanghai:20251115T173000
DTSTAMP:20260425T185819
CREATED:20251103T022055Z
LAST-MODIFIED:20251103T032818Z
UID:60172-1763199000-1763227800@www.lanfar.com
SUMMARY:高雄 NDO訓練
DESCRIPTION: 
URL:https://www.lanfar.com/event/%e9%ab%98%e9%9b%84-ndo%e8%a8%93%e7%b7%b4-2025-11-15/
LOCATION:南區高雄營業處 上午9:30\, 高雄市前鎮區一心一路241號7樓
CATEGORIES:全部,高雄
END:VEVENT
BEGIN:VEVENT
DTSTART;TZID=Asia/Shanghai:20251117T193000
DTEND;TZID=Asia/Shanghai:20251117T210000
DTSTAMP:20260425T185819
CREATED:20251103T015516Z
LAST-MODIFIED:20251103T032055Z
UID:60112-1763407800-1763413200@www.lanfar.com
SUMMARY:台南 事業說明會
DESCRIPTION: 
URL:https://www.lanfar.com/event/%e5%8f%b0%e5%8d%97-%e4%ba%8b%e6%a5%ad%e8%aa%aa%e6%98%8e%e6%9c%83-2025-11-17/
LOCATION:南區台南營業處 下午7:30\, 台南市東區大同路2段615號6樓
CATEGORIES:全部,台南
END:VEVENT
BEGIN:VEVENT
DTSTART;TZID=Asia/Shanghai:20251118T193000
DTEND;TZID=Asia/Shanghai:20251118T210000
DTSTAMP:20260425T185819
CREATED:20251103T015829Z
LAST-MODIFIED:20251103T032114Z
UID:60128-1763494200-1763499600@www.lanfar.com
SUMMARY:桃園 賜多利同樂會
DESCRIPTION: 
URL:https://www.lanfar.com/event/%e6%a1%83%e5%9c%92-%e8%b3%9c%e5%a4%9a%e5%88%a9%e5%90%8c%e6%a8%82%e6%9c%83-2025-11-18/
LOCATION:北區桃園營業處 下午7:30\, 桃園市桃園區復興路207號18樓之1
CATEGORIES:全部,桃園
END:VEVENT
BEGIN:VEVENT
DTSTART;TZID=Asia/Shanghai:20251119T133000
DTEND;TZID=Asia/Shanghai:20251119T170000
DTSTAMP:20260425T185819
CREATED:20251103T021100Z
LAST-MODIFIED:20251103T032631Z
UID:60154-1763559000-1763571600@www.lanfar.com
SUMMARY:台中 基座訓練
DESCRIPTION: 
URL:https://www.lanfar.com/event/%e5%8f%b0%e4%b8%ad-%e5%9f%ba%e5%ba%a7%e8%a8%93%e7%b7%b4-2025-11-19/
LOCATION:中區台中營業處 下午1:30\, 台中市西區五權路1-67號19樓
CATEGORIES:全部,台中
END:VEVENT
BEGIN:VEVENT
DTSTART;TZID=Asia/Shanghai:20251119T140000
DTEND;TZID=Asia/Shanghai:20251119T180000
DTSTAMP:20260425T185819
CREATED:20251118T075341Z
LAST-MODIFIED:20251118T075343Z
UID:60902-1763560800-1763575200@www.lanfar.com
SUMMARY:台南 基座訓練
DESCRIPTION:
URL:https://www.lanfar.com/event/%e5%8f%b0%e5%8d%97-%e5%9f%ba%e5%ba%a7%e8%a8%93%e7%b7%b4-2025-11-19/
LOCATION:南區台南營業處 下午2:00\, 台南市東區大同路2段615號6樓
CATEGORIES:全部,台南
END:VEVENT
BEGIN:VEVENT
DTSTART;TZID=Asia/Shanghai:20251120T193000
DTEND;TZID=Asia/Shanghai:20251120T210000
DTSTAMP:20260425T185819
CREATED:20251103T022132Z
LAST-MODIFIED:20251103T032131Z
UID:60176-1763667000-1763672400@www.lanfar.com
SUMMARY:高雄 成功分享
DESCRIPTION: 
URL:https://www.lanfar.com/event/%e9%ab%98%e9%9b%84-%e6%88%90%e5%8a%9f%e5%88%86%e4%ba%ab-2025-11-20/
LOCATION:南區高雄營業處 下午7:30\, 高雄市前鎮區一心一路241號7樓
CATEGORIES:全部,高雄
END:VEVENT
BEGIN:VEVENT
DTSTART;TZID=Asia/Shanghai:20251124T193000
DTEND;TZID=Asia/Shanghai:20251124T210000
DTSTAMP:20260425T185819
CREATED:20251103T015551Z
LAST-MODIFIED:20251103T032212Z
UID:60116-1764012600-1764018000@www.lanfar.com
SUMMARY:台南 事業說明會
DESCRIPTION: 
URL:https://www.lanfar.com/event/%e5%8f%b0%e5%8d%97-%e4%ba%8b%e6%a5%ad%e8%aa%aa%e6%98%8e%e6%9c%83-2025-11-24/
LOCATION:南區台南營業處 下午7:30\, 台南市東區大同路2段615號6樓
CATEGORIES:全部,台南
END:VEVENT
BEGIN:VEVENT
DTSTART;TZID=Asia/Shanghai:20251125T143000
DTEND;TZID=Asia/Shanghai:20251125T160000
DTSTAMP:20260425T185819
CREATED:20251103T034104Z
LAST-MODIFIED:20251103T071027Z
UID:60235-1764081000-1764086400@www.lanfar.com
SUMMARY:屏東 說故事分享會
DESCRIPTION: 
URL:https://www.lanfar.com/event/%e5%b1%8f%e6%9d%b1-%e8%aa%aa%e6%95%85%e4%ba%8b%e5%88%86%e4%ba%ab%e6%9c%83-2025-11-25/
LOCATION:勞動暨青年發展處 下午2:30\, 屏東縣屏東市自由路17號
CATEGORIES:全部,高雄
END:VEVENT
BEGIN:VEVENT
DTSTART;TZID=Asia/Shanghai:20251125T193000
DTEND;TZID=Asia/Shanghai:20251125T210000
DTSTAMP:20260425T185819
CREATED:20251103T015958Z
LAST-MODIFIED:20251103T032231Z
UID:60132-1764099000-1764104400@www.lanfar.com
SUMMARY:桃園 事業講座
DESCRIPTION: 
URL:https://www.lanfar.com/event/%e6%a1%83%e5%9c%92-%e4%ba%8b%e6%a5%ad%e8%ac%9b%e5%ba%a7-2025-11-25/
LOCATION:北區桃園營業處 下午7:30\, 桃園市桃園區復興路207號18樓之1
CATEGORIES:全部,桃園
END:VEVENT
BEGIN:VEVENT
DTSTART;TZID=Asia/Shanghai:20251126T193000
DTEND;TZID=Asia/Shanghai:20251126T210000
DTSTAMP:20260425T185819
CREATED:20251103T021404Z
LAST-MODIFIED:20251103T032249Z
UID:60158-1764185400-1764190800@www.lanfar.com
SUMMARY:台中 說故事分享會
DESCRIPTION: 
URL:https://www.lanfar.com/event/%e5%8f%b0%e4%b8%ad-%e8%aa%aa%e6%95%85%e4%ba%8b%e5%88%86%e4%ba%ab%e6%9c%83-2025-11-26/
LOCATION:中區台中營業處 下午7:30\, 台中市西區五權路1-67號19樓
CATEGORIES:全部,台中
END:VEVENT
BEGIN:VEVENT
DTSTART;TZID=Asia/Shanghai:20251127T193000
DTEND;TZID=Asia/Shanghai:20251127T210000
DTSTAMP:20260425T185819
CREATED:20251103T022315Z
LAST-MODIFIED:20251103T032306Z
UID:60180-1764271800-1764277200@www.lanfar.com
SUMMARY:高雄 事業說明會
DESCRIPTION: 
URL:https://www.lanfar.com/event/%e9%ab%98%e9%9b%84-%e4%ba%8b%e6%a5%ad%e8%aa%aa%e6%98%8e%e6%9c%83-2025-11-27/
LOCATION:南區高雄營業處 下午7:30\, 高雄市前鎮區一心一路241號7樓
CATEGORIES:全部,高雄
END:VEVENT
BEGIN:VEVENT
DTSTART;VALUE=DATE:20251128
DTEND;VALUE=DATE:20251129
DTSTAMP:20260425T185819
CREATED:20251103T022930Z
LAST-MODIFIED:20251103T022932Z
UID:60184-1764288000-1764374399@www.lanfar.com
SUMMARY:業績結算日
DESCRIPTION:
URL:https://www.lanfar.com/event/%e6%a5%ad%e7%b8%be%e7%b5%90%e7%ae%97%e6%97%a5-2025-11-28/
CATEGORIES:全部,桃園,台中,台南,高雄
END:VEVENT
END:VCALENDAR