BEGIN:VCALENDAR
VERSION:2.0
PRODID:-//連法國際實業股份有限公司 - ECPv5.12.3//NONSGML v1.0//EN
CALSCALE:GREGORIAN
METHOD:PUBLISH
X-WR-CALNAME:連法國際實業股份有限公司
X-ORIGINAL-URL:https://www.lanfar.com
X-WR-CALDESC:Events for 連法國際實業股份有限公司
REFRESH-INTERVAL;VALUE=DURATION:PT1H
X-Robots-Tag:noindex
X-PUBLISHED-TTL:PT1H
BEGIN:VTIMEZONE
TZID:Asia/Shanghai
BEGIN:STANDARD
TZOFFSETFROM:+0800
TZOFFSETTO:+0800
TZNAME:CST
DTSTART:20250101T000000
END:STANDARD
END:VTIMEZONE
BEGIN:VEVENT
DTSTART;TZID=Asia/Shanghai:20250804T193000
DTEND;TZID=Asia/Shanghai:20250804T210000
DTSTAMP:20260426T040949
CREATED:20250728T053614Z
LAST-MODIFIED:20250730T031848Z
UID:55655-1754335800-1754341200@www.lanfar.com
SUMMARY:台南 健康講座
DESCRIPTION: 
URL:https://www.lanfar.com/event/%e5%8f%b0%e5%8d%97-%e5%81%a5%e5%ba%b7%e8%ac%9b%e5%ba%a7-2025-08-04/
LOCATION:南區台南營業處 下午7:30\, 台南市東區大同路2段615號6樓
CATEGORIES:全部,台南
END:VEVENT
BEGIN:VEVENT
DTSTART;TZID=Asia/Shanghai:20250805T143000
DTEND;TZID=Asia/Shanghai:20250805T160000
DTSTAMP:20260426T040949
CREATED:20250728T054608Z
LAST-MODIFIED:20250730T031917Z
UID:55671-1754404200-1754409600@www.lanfar.com
SUMMARY:屏東 事業說明會
DESCRIPTION: 
URL:https://www.lanfar.com/event/%e5%b1%8f%e6%9d%b1-%e4%ba%8b%e6%a5%ad%e8%aa%aa%e6%98%8e%e6%9c%83-2025-08-05/
LOCATION:勞動暨青年發展處 下午2:30\, 屏東縣屏東市自由路17號
CATEGORIES:全部,高雄
END:VEVENT
BEGIN:VEVENT
DTSTART;TZID=Asia/Shanghai:20250805T193000
DTEND;TZID=Asia/Shanghai:20250805T210000
DTSTAMP:20260426T040949
CREATED:20250728T054713Z
LAST-MODIFIED:20250730T031947Z
UID:55675-1754422200-1754427600@www.lanfar.com
SUMMARY:桃園 健康講座
DESCRIPTION: 
URL:https://www.lanfar.com/event/%e6%a1%83%e5%9c%92-%e5%81%a5%e5%ba%b7%e8%ac%9b%e5%ba%a7-2025-08-05/
LOCATION:北區桃園營業處 下午7:30\, 桃園市桃園區復興路207號18樓之1
CATEGORIES:全部,桃園
END:VEVENT
BEGIN:VEVENT
DTSTART;TZID=Asia/Shanghai:20250806T193000
DTEND;TZID=Asia/Shanghai:20250806T210000
DTSTAMP:20260426T040949
CREATED:20250728T073736Z
LAST-MODIFIED:20250730T032007Z
UID:55695-1754508600-1754514000@www.lanfar.com
SUMMARY:台中 事業講座
DESCRIPTION: 
URL:https://www.lanfar.com/event/%e5%8f%b0%e4%b8%ad-%e4%ba%8b%e6%a5%ad%e8%ac%9b%e5%ba%a7-2025-08-06/
LOCATION:中區台中營業處 下午7:30\, 台中市西區五權路1-67號19樓
CATEGORIES:全部,台中
END:VEVENT
BEGIN:VEVENT
DTSTART;TZID=Asia/Shanghai:20250807T193000
DTEND;TZID=Asia/Shanghai:20250807T210000
DTSTAMP:20260426T040949
CREATED:20250728T084420Z
LAST-MODIFIED:20250730T032029Z
UID:55714-1754595000-1754600400@www.lanfar.com
SUMMARY:高雄 健康講座
DESCRIPTION: 
URL:https://www.lanfar.com/event/%e9%ab%98%e9%9b%84-%e5%81%a5%e5%ba%b7%e8%ac%9b%e5%ba%a7-2025-08-07/
LOCATION:南區高雄營業處 下午7:30\, 高雄市前鎮區一心一路241號7樓
CATEGORIES:全部,高雄
END:VEVENT
BEGIN:VEVENT
DTSTART;TZID=Asia/Shanghai:20250811T193000
DTEND;TZID=Asia/Shanghai:20250811T210000
DTSTAMP:20260426T040949
CREATED:20250728T053645Z
LAST-MODIFIED:20250730T032116Z
UID:55659-1754940600-1754946000@www.lanfar.com
SUMMARY:台南 事業講座
DESCRIPTION: 
URL:https://www.lanfar.com/event/%e5%8f%b0%e5%8d%97-%e4%ba%8b%e6%a5%ad%e8%ac%9b%e5%ba%a7-2025-08-11/
LOCATION:南區台南營業處 下午7:30\, 台南市東區大同路2段615號6樓
CATEGORIES:全部,台南
END:VEVENT
BEGIN:VEVENT
DTSTART;TZID=Asia/Shanghai:20250812T193000
DTEND;TZID=Asia/Shanghai:20250812T210000
DTSTAMP:20260426T040949
CREATED:20250728T054918Z
LAST-MODIFIED:20250730T032139Z
UID:55679-1755027000-1755032400@www.lanfar.com
SUMMARY:桃園 事業講座
DESCRIPTION: 
URL:https://www.lanfar.com/event/%e6%a1%83%e5%9c%92-%e4%ba%8b%e6%a5%ad%e8%ac%9b%e5%ba%a7-2025-08-12/
LOCATION:北區桃園營業處 下午7:30\, 桃園市桃園區復興路207號18樓之1
CATEGORIES:全部,桃園
END:VEVENT
BEGIN:VEVENT
DTSTART;TZID=Asia/Shanghai:20250813T130000
DTEND;TZID=Asia/Shanghai:20250813T173000
DTSTAMP:20260426T040949
CREATED:20250728T074409Z
LAST-MODIFIED:20250801T060627Z
UID:55701-1755090000-1755106200@www.lanfar.com
SUMMARY:台中 基座訓練
DESCRIPTION: 
URL:https://www.lanfar.com/event/%e5%8f%b0%e4%b8%ad-%e5%9f%ba%e5%ba%a7%e8%a8%93%e7%b7%b4-2025-08-13/
LOCATION:中區台中營業處 下午1:30\, 台中市西區五權路1-67號19樓
CATEGORIES:全部,台中
END:VEVENT
BEGIN:VEVENT
DTSTART;TZID=Asia/Shanghai:20250814T193000
DTEND;TZID=Asia/Shanghai:20250814T210000
DTSTAMP:20260426T040949
CREATED:20250728T084512Z
LAST-MODIFIED:20250730T032200Z
UID:55718-1755199800-1755205200@www.lanfar.com
SUMMARY:高雄 事業講座
DESCRIPTION: 
URL:https://www.lanfar.com/event/%e9%ab%98%e9%9b%84-%e4%ba%8b%e6%a5%ad%e8%ac%9b%e5%ba%a7-2025-08-14/
LOCATION:南區高雄營業處 下午7:30\, 高雄市前鎮區一心一路241號7樓
CATEGORIES:全部,高雄
END:VEVENT
BEGIN:VEVENT
DTSTART;TZID=Asia/Shanghai:20250816T193000
DTEND;TZID=Asia/Shanghai:20250816T210000
DTSTAMP:20260426T040949
CREATED:20250728T090236Z
LAST-MODIFIED:20250801T060717Z
UID:55730-1755372600-1755378000@www.lanfar.com
SUMMARY:高雄 基座訓練
DESCRIPTION:
URL:https://www.lanfar.com/event/%e9%ab%98%e9%9b%84-%e5%9f%ba%e5%ba%a7%e8%a8%93%e7%b7%b4-2025-08-16/
LOCATION:南區高雄營業處 下午1:30\, 高雄市前鎮區一心一路241號7樓
CATEGORIES:全部,高雄
END:VEVENT
BEGIN:VEVENT
DTSTART;TZID=Asia/Shanghai:20250818T193000
DTEND;TZID=Asia/Shanghai:20250818T210000
DTSTAMP:20260426T040949
CREATED:20250728T054130Z
LAST-MODIFIED:20250730T032247Z
UID:55663-1755545400-1755550800@www.lanfar.com
SUMMARY:台南 事業說明會
DESCRIPTION: 
URL:https://www.lanfar.com/event/%e5%8f%b0%e5%8d%97-%e4%ba%8b%e6%a5%ad%e8%aa%aa%e6%98%8e%e6%9c%83-2025-08-18/
LOCATION:南區台南營業處 下午7:30\, 台南市東區大同路2段615號6樓
CATEGORIES:全部,台南
END:VEVENT
BEGIN:VEVENT
DTSTART;TZID=Asia/Shanghai:20250819T143000
DTEND;TZID=Asia/Shanghai:20250819T150000
DTSTAMP:20260426T040949
CREATED:20250728T055345Z
LAST-MODIFIED:20250730T032307Z
UID:55683-1755613800-1755615600@www.lanfar.com
SUMMARY:屏東 說故事分享會
DESCRIPTION: 
URL:https://www.lanfar.com/event/%e5%b1%8f%e6%9d%b1-%e8%aa%aa%e6%95%85%e4%ba%8b%e5%88%86%e4%ba%ab%e6%9c%83-2025-08-19/
LOCATION:勞動暨青年發展處 下午2:30\, 屏東縣屏東市自由路17號
CATEGORIES:全部,高雄
END:VEVENT
BEGIN:VEVENT
DTSTART;TZID=Asia/Shanghai:20250819T193000
DTEND;TZID=Asia/Shanghai:20250819T210000
DTSTAMP:20260426T040949
CREATED:20250728T055750Z
LAST-MODIFIED:20250730T032329Z
UID:55687-1755631800-1755637200@www.lanfar.com
SUMMARY:桃園 事業說明會
DESCRIPTION: 
URL:https://www.lanfar.com/event/%e6%a1%83%e5%9c%92-%e4%ba%8b%e6%a5%ad%e8%aa%aa%e6%98%8e%e6%9c%83-2025-08-19/
LOCATION:北區桃園營業處 下午7:30\, 桃園市桃園區復興路207號18樓之1
CATEGORIES:全部,桃園
END:VEVENT
BEGIN:VEVENT
DTSTART;TZID=Asia/Shanghai:20250820T193000
DTEND;TZID=Asia/Shanghai:20250820T210000
DTSTAMP:20260426T040949
CREATED:20250728T074858Z
LAST-MODIFIED:20250730T032348Z
UID:55705-1755718200-1755723600@www.lanfar.com
SUMMARY:台中 健康講座
DESCRIPTION: 
URL:https://www.lanfar.com/event/%e5%8f%b0%e4%b8%ad-%e5%81%a5%e5%ba%b7%e8%ac%9b%e5%ba%a7-2025-08-20/
LOCATION:中區台中營業處 下午7:30\, 台中市西區五權路1-67號19樓
CATEGORIES:全部,台中
END:VEVENT
BEGIN:VEVENT
DTSTART;TZID=Asia/Shanghai:20250821T193000
DTEND;TZID=Asia/Shanghai:20250821T210000
DTSTAMP:20260426T040949
CREATED:20250728T085122Z
LAST-MODIFIED:20250730T032413Z
UID:55722-1755804600-1755810000@www.lanfar.com
SUMMARY:高雄 事業說明會
DESCRIPTION: 
URL:https://www.lanfar.com/event/%e9%ab%98%e9%9b%84-%e4%ba%8b%e6%a5%ad%e8%aa%aa%e6%98%8e%e6%9c%83-2025-08-21/
LOCATION:南區高雄營業處 下午7:30\, 高雄市前鎮區一心一路241號7樓
CATEGORIES:全部,高雄
END:VEVENT
BEGIN:VEVENT
DTSTART;TZID=Asia/Shanghai:20250825T193000
DTEND;TZID=Asia/Shanghai:20250825T210000
DTSTAMP:20260426T040949
CREATED:20250728T054232Z
LAST-MODIFIED:20250730T032516Z
UID:55667-1756150200-1756155600@www.lanfar.com
SUMMARY:台南 事業說明會
DESCRIPTION: 
URL:https://www.lanfar.com/event/%e5%8f%b0%e5%8d%97-%e4%ba%8b%e6%a5%ad%e8%aa%aa%e6%98%8e%e6%9c%83-2025-08-25/
LOCATION:南區台南營業處 下午7:30\, 台南市東區大同路2段615號6樓
CATEGORIES:全部,台南
END:VEVENT
BEGIN:VEVENT
DTSTART;TZID=Asia/Shanghai:20250826T193000
DTEND;TZID=Asia/Shanghai:20250826T210000
DTSTAMP:20260426T040949
CREATED:20250728T055827Z
LAST-MODIFIED:20250730T032538Z
UID:55691-1756236600-1756242000@www.lanfar.com
SUMMARY:桃園 賜多利同樂會
DESCRIPTION: 
URL:https://www.lanfar.com/event/%e6%a1%83%e5%9c%92-%e8%b3%9c%e5%a4%9a%e5%88%a9%e5%90%8c%e6%a8%82%e6%9c%83-2025-08-26/
LOCATION:北區桃園營業處 下午7:30\, 桃園市桃園區復興路207號18樓之1
CATEGORIES:全部,桃園
END:VEVENT
BEGIN:VEVENT
DTSTART;TZID=Asia/Shanghai:20250827T193000
DTEND;TZID=Asia/Shanghai:20250827T210000
DTSTAMP:20260426T040949
CREATED:20250728T081609Z
LAST-MODIFIED:20250730T032600Z
UID:55709-1756323000-1756328400@www.lanfar.com
SUMMARY:台中 說故事分享會
DESCRIPTION: 
URL:https://www.lanfar.com/event/%e5%8f%b0%e4%b8%ad-%e8%aa%aa%e6%95%85%e4%ba%8b%e5%88%86%e4%ba%ab%e6%9c%83-2025-08-27/
LOCATION:中區台中營業處 下午7:30\, 台中市西區五權路1-67號19樓
CATEGORIES:全部,台中
END:VEVENT
BEGIN:VEVENT
DTSTART;TZID=Asia/Shanghai:20250828T193000
DTEND;TZID=Asia/Shanghai:20250828T210000
DTSTAMP:20260426T040949
CREATED:20250728T085624Z
LAST-MODIFIED:20250730T032621Z
UID:55726-1756409400-1756414800@www.lanfar.com
SUMMARY:高雄 說故事分享會
DESCRIPTION: 
URL:https://www.lanfar.com/event/%e9%ab%98%e9%9b%84-%e8%aa%aa%e6%95%85%e4%ba%8b%e5%88%86%e4%ba%ab%e6%9c%83-2025-08-28/
LOCATION:南區高雄營業處 下午7:30\, 高雄市前鎮區一心一路241號7樓
CATEGORIES:全部,高雄
END:VEVENT
END:VCALENDAR