BEGIN:VCALENDAR
VERSION:2.0
PRODID:-//連法國際實業股份有限公司 - ECPv5.12.3//NONSGML v1.0//EN
CALSCALE:GREGORIAN
METHOD:PUBLISH
X-WR-CALNAME:連法國際實業股份有限公司
X-ORIGINAL-URL:https://www.lanfar.com
X-WR-CALDESC:Events for 連法國際實業股份有限公司
REFRESH-INTERVAL;VALUE=DURATION:PT1H
X-Robots-Tag:noindex
X-PUBLISHED-TTL:PT1H
BEGIN:VTIMEZONE
TZID:Asia/Shanghai
BEGIN:STANDARD
TZOFFSETFROM:+0800
TZOFFSETTO:+0800
TZNAME:CST
DTSTART:20250101T000000
END:STANDARD
END:VTIMEZONE
BEGIN:VEVENT
DTSTART;TZID=Asia/Shanghai:20250401T193000
DTEND;TZID=Asia/Shanghai:20250401T210000
DTSTAMP:20260426T104835
CREATED:20250321T125145Z
LAST-MODIFIED:20250331T072158Z
UID:49278-1743535800-1743541200@www.lanfar.com
SUMMARY:桃園 一對一說明訓練
DESCRIPTION: 
URL:https://www.lanfar.com/event/%e6%a1%83%e5%9c%92-%e4%b8%80%e5%b0%8d%e4%b8%80%e8%aa%aa%e6%98%8e%e8%a8%93%e7%b7%b4-2025-04-01/
LOCATION:北區桃園營業處 下午7:30\, 桃園市桃園區復興路207號18樓之1
CATEGORIES:全部,桃園
END:VEVENT
BEGIN:VEVENT
DTSTART;TZID=Asia/Shanghai:20250407T193000
DTEND;TZID=Asia/Shanghai:20250407T210000
DTSTAMP:20260426T104835
CREATED:20250321T122318Z
LAST-MODIFIED:20250331T072216Z
UID:49262-1744054200-1744059600@www.lanfar.com
SUMMARY:台南 事業講座
DESCRIPTION: 
URL:https://www.lanfar.com/event/%e5%8f%b0%e5%8d%97-%e4%ba%8b%e6%a5%ad%e8%ac%9b%e5%ba%a7-2025-04-07/
LOCATION:南區台南營業處 下午7:30\, 台南市東區大同路2段615號6樓
CATEGORIES:全部,台南
END:VEVENT
BEGIN:VEVENT
DTSTART;TZID=Asia/Shanghai:20250408T143000
DTEND;TZID=Asia/Shanghai:20250408T160000
DTSTAMP:20260426T104835
CREATED:20250321T125426Z
LAST-MODIFIED:20250331T072235Z
UID:49282-1744122600-1744128000@www.lanfar.com
SUMMARY:屏東 事業說明會
DESCRIPTION: 
URL:https://www.lanfar.com/event/%e5%b1%8f%e6%9d%b1-%e4%ba%8b%e6%a5%ad%e8%aa%aa%e6%98%8e%e6%9c%83-2025-04-08/
LOCATION:勞動暨青年發展處 下午2:30\, 屏東縣屏東市自由路17號
CATEGORIES:全部,高雄
END:VEVENT
BEGIN:VEVENT
DTSTART;TZID=Asia/Shanghai:20250408T193000
DTEND;TZID=Asia/Shanghai:20250408T210000
DTSTAMP:20260426T104835
CREATED:20250321T125809Z
LAST-MODIFIED:20250331T072252Z
UID:49290-1744140600-1744146000@www.lanfar.com
SUMMARY:桃園 事業講座
DESCRIPTION: 
URL:https://www.lanfar.com/event/%e6%a1%83%e5%9c%92-%e4%ba%8b%e6%a5%ad%e8%ac%9b%e5%ba%a7-2025-04-08/
LOCATION:北區桃園營業處 下午7:30\, 桃園市桃園區復興路207號18樓之1
CATEGORIES:全部,桃園
END:VEVENT
BEGIN:VEVENT
DTSTART;TZID=Asia/Shanghai:20250409T193000
DTEND;TZID=Asia/Shanghai:20250409T210000
DTSTAMP:20260426T104835
CREATED:20250321T134511Z
LAST-MODIFIED:20250331T080231Z
UID:49330-1744227000-1744232400@www.lanfar.com
SUMMARY:台中 健康講座
DESCRIPTION: 
URL:https://www.lanfar.com/event/%e5%8f%b0%e4%b8%ad-%e5%81%a5%e5%ba%b7%e8%ac%9b%e5%ba%a7-2025-04-09/
LOCATION:中區台中營業處 下午7:30\, 台中市西區五權路1-67號19樓
CATEGORIES:全部,台中
END:VEVENT
BEGIN:VEVENT
DTSTART;TZID=Asia/Shanghai:20250410T193000
DTEND;TZID=Asia/Shanghai:20250410T210000
DTSTAMP:20260426T104835
CREATED:20250321T133536Z
LAST-MODIFIED:20250331T072415Z
UID:49314-1744313400-1744318800@www.lanfar.com
SUMMARY:高雄 事業講座
DESCRIPTION: 
URL:https://www.lanfar.com/event/%e9%ab%98%e9%9b%84-%e4%ba%8b%e6%a5%ad%e8%ac%9b%e5%ba%a7-2025-04-10/
LOCATION:南區高雄營業處 下午7:30\, 高雄市前鎮區一心一路241號7樓
CATEGORIES:全部,高雄
END:VEVENT
BEGIN:VEVENT
DTSTART;TZID=Asia/Shanghai:20250412T090000
DTEND;TZID=Asia/Shanghai:20250412T173000
DTSTAMP:20260426T104835
CREATED:20250321T134310Z
LAST-MODIFIED:20250411T025614Z
UID:49326-1744448400-1744479000@www.lanfar.com
SUMMARY:高雄 NDO訓練
DESCRIPTION: 
URL:https://www.lanfar.com/event/%e9%ab%98%e9%9b%84-ndo%e8%a8%93%e7%b7%b4-2025-04-12/
LOCATION:南區高雄營業處 上午9:00\, 高雄市前鎮區一心一路241號7樓
CATEGORIES:全部,高雄
END:VEVENT
BEGIN:VEVENT
DTSTART;TZID=Asia/Shanghai:20250414T193000
DTEND;TZID=Asia/Shanghai:20250414T210000
DTSTAMP:20260426T104835
CREATED:20250321T123505Z
LAST-MODIFIED:20250331T072526Z
UID:49266-1744659000-1744664400@www.lanfar.com
SUMMARY:台南 健康講座
DESCRIPTION: 
URL:https://www.lanfar.com/event/%e5%8f%b0%e5%8d%97-%e5%81%a5%e5%ba%b7%e8%ac%9b%e5%ba%a7-2025-04-14/
LOCATION:南區台南營業處 下午7:30\, 台南市東區大同路2段615號6樓
CATEGORIES:全部,台南
END:VEVENT
BEGIN:VEVENT
DTSTART;TZID=Asia/Shanghai:20250415T133000
DTEND;TZID=Asia/Shanghai:20250415T173000
DTSTAMP:20260426T104835
CREATED:20250321T130113Z
LAST-MODIFIED:20250401T060145Z
UID:49294-1744723800-1744738200@www.lanfar.com
SUMMARY:桃園 基座訓練
DESCRIPTION:
URL:https://www.lanfar.com/event/%e6%a1%83%e5%9c%92-%e5%9f%ba%e5%ba%a7%e8%a8%93%e7%b7%b4-2025-04-15/
LOCATION:北區桃園營業處 下午1:30\, 桃園市桃園區復興路207號18樓之1
CATEGORIES:全部,桃園
END:VEVENT
BEGIN:VEVENT
DTSTART;TZID=Asia/Shanghai:20250416T140000
DTEND;TZID=Asia/Shanghai:20250416T180000
DTSTAMP:20260426T104835
CREATED:20250321T133253Z
LAST-MODIFIED:20250401T060102Z
UID:49310-1744812000-1744826400@www.lanfar.com
SUMMARY:台南 基座訓練
DESCRIPTION:
URL:https://www.lanfar.com/event/%e5%8f%b0%e5%8d%97-%e5%9f%ba%e5%ba%a7%e8%a8%93%e7%b7%b4-2025-04-16/
LOCATION:南區台南營業處 下午2:00\, 台南市東區大同路2段615號6樓
CATEGORIES:全部,台南
END:VEVENT
BEGIN:VEVENT
DTSTART;TZID=Asia/Shanghai:20250417T193000
DTEND;TZID=Asia/Shanghai:20250417T210000
DTSTAMP:20260426T104835
CREATED:20250321T133749Z
LAST-MODIFIED:20250331T072544Z
UID:49318-1744918200-1744923600@www.lanfar.com
SUMMARY:高雄 健康講座
DESCRIPTION: 
URL:https://www.lanfar.com/event/%e9%ab%98%e9%9b%84-%e5%81%a5%e5%ba%b7%e8%ac%9b%e5%ba%a7-2025-04-17/
LOCATION:南區高雄營業處 下午7:30\, 高雄市前鎮區一心一路241號7樓
CATEGORIES:全部,高雄
END:VEVENT
BEGIN:VEVENT
DTSTART;TZID=Asia/Shanghai:20250421T193000
DTEND;TZID=Asia/Shanghai:20250421T210000
DTSTAMP:20260426T104835
CREATED:20250321T124021Z
LAST-MODIFIED:20250331T072614Z
UID:49270-1745263800-1745269200@www.lanfar.com
SUMMARY:台南 事業說明會
DESCRIPTION: 
URL:https://www.lanfar.com/event/%e5%8f%b0%e5%8d%97-%e4%ba%8b%e6%a5%ad%e8%aa%aa%e6%98%8e%e6%9c%83-2025-04-21/
LOCATION:南區台南營業處 下午7:30\, 台南市東區大同路2段615號6樓
CATEGORIES:全部
END:VEVENT
BEGIN:VEVENT
DTSTART;TZID=Asia/Shanghai:20250422T143000
DTEND;TZID=Asia/Shanghai:20250422T160000
DTSTAMP:20260426T104835
CREATED:20250321T125706Z
LAST-MODIFIED:20250331T072634Z
UID:49286-1745332200-1745337600@www.lanfar.com
SUMMARY:屏東 說故事分享會
DESCRIPTION: 
URL:https://www.lanfar.com/event/%e5%b1%8f%e6%9d%b1-%e8%aa%aa%e6%95%85%e4%ba%8b%e5%88%86%e4%ba%ab%e6%9c%83-2025-04-22/
LOCATION:勞動暨青年發展處 下午2:30\, 屏東縣屏東市自由路17號
CATEGORIES:全部,高雄
END:VEVENT
BEGIN:VEVENT
DTSTART;TZID=Asia/Shanghai:20250422T193000
DTEND;TZID=Asia/Shanghai:20250422T210000
DTSTAMP:20260426T104835
CREATED:20250321T130744Z
LAST-MODIFIED:20250331T072651Z
UID:49298-1745350200-1745355600@www.lanfar.com
SUMMARY:桃園 獎金制度教學
DESCRIPTION: 
URL:https://www.lanfar.com/event/%e6%a1%83%e5%9c%92-%e7%8d%8e%e9%87%91%e5%88%b6%e5%ba%a6%e6%95%99%e5%ad%b8-2025-04-22/
LOCATION:北區桃園營業處 下午7:30\, 桃園市桃園區復興路207號18樓之1
CATEGORIES:全部,桃園
END:VEVENT
BEGIN:VEVENT
DTSTART;TZID=Asia/Shanghai:20250423T193000
DTEND;TZID=Asia/Shanghai:20250423T210000
DTSTAMP:20260426T104835
CREATED:20250327T041651Z
LAST-MODIFIED:20250331T071754Z
UID:49545-1745436600-1745442000@www.lanfar.com
SUMMARY:台中 說故事分享會
DESCRIPTION: 
URL:https://www.lanfar.com/event/%e5%8f%b0%e4%b8%ad-%e8%aa%aa%e6%95%85%e4%ba%8b%e5%88%86%e4%ba%ab%e6%9c%83-2025-04-23/
LOCATION:中區台中營業處 下午7:30\, 台中市西區五權路1-67號19樓
CATEGORIES:全部,台中
END:VEVENT
BEGIN:VEVENT
DTSTART;TZID=Asia/Shanghai:20250424T193000
DTEND;TZID=Asia/Shanghai:20250424T210000
DTSTAMP:20260426T104835
CREATED:20250321T133825Z
LAST-MODIFIED:20250331T072722Z
UID:49322-1745523000-1745528400@www.lanfar.com
SUMMARY:高雄 事業說明會
DESCRIPTION: 
URL:https://www.lanfar.com/event/%e9%ab%98%e9%9b%84-%e4%ba%8b%e6%a5%ad%e8%aa%aa%e6%98%8e%e6%9c%83-2025-04-24/
LOCATION:南區高雄營業處 下午7:30\, 高雄市前鎮區一心一路241號7樓
CATEGORIES:全部,高雄
END:VEVENT
BEGIN:VEVENT
DTSTART;TZID=Asia/Shanghai:20250428T193000
DTEND;TZID=Asia/Shanghai:20250428T210000
DTSTAMP:20260426T104835
CREATED:20250321T124337Z
LAST-MODIFIED:20250331T073328Z
UID:49274-1745868600-1745874000@www.lanfar.com
SUMMARY:台南 事業說明會
DESCRIPTION: 
URL:https://www.lanfar.com/event/%e5%8f%b0%e5%8d%97-%e4%ba%8b%e6%a5%ad%e8%aa%aa%e6%98%8e%e6%9c%83-2025-04-28/
LOCATION:南區台南營業處 下午7:30\, 台南市東區大同路2段615號6樓
CATEGORIES:全部,台南
END:VEVENT
BEGIN:VEVENT
DTSTART;TZID=Asia/Shanghai:20250429T193000
DTEND;TZID=Asia/Shanghai:20250429T210000
DTSTAMP:20260426T104835
CREATED:20250321T131045Z
LAST-MODIFIED:20250331T073349Z
UID:49302-1745955000-1745960400@www.lanfar.com
SUMMARY:桃園 賜多利同樂會
DESCRIPTION: 
URL:https://www.lanfar.com/event/%e6%a1%83%e5%9c%92-%e8%b3%9c%e5%a4%9a%e5%88%a9%e5%90%8c%e6%a8%82%e6%9c%83-2025-04-29/
LOCATION:北區桃園營業處 下午7:30\, 桃園市桃園區復興路207號18樓之1
CATEGORIES:全部,桃園
END:VEVENT
END:VCALENDAR