BEGIN:VCALENDAR
VERSION:2.0
PRODID:-//連法國際實業股份有限公司 - ECPv5.12.3//NONSGML v1.0//EN
CALSCALE:GREGORIAN
METHOD:PUBLISH
X-WR-CALNAME:連法國際實業股份有限公司
X-ORIGINAL-URL:https://www.lanfar.com
X-WR-CALDESC:Events for 連法國際實業股份有限公司
REFRESH-INTERVAL;VALUE=DURATION:PT1H
X-Robots-Tag:noindex
X-PUBLISHED-TTL:PT1H
BEGIN:VTIMEZONE
TZID:Asia/Shanghai
BEGIN:STANDARD
TZOFFSETFROM:+0800
TZOFFSETTO:+0800
TZNAME:CST
DTSTART:20250101T000000
END:STANDARD
END:VTIMEZONE
BEGIN:VEVENT
DTSTART;TZID=Asia/Shanghai:20251008T193000
DTEND;TZID=Asia/Shanghai:20251008T210000
DTSTAMP:20260426T003555
CREATED:20250926T105832Z
LAST-MODIFIED:20250930T073643Z
UID:58594-1759951800-1759957200@www.lanfar.com
SUMMARY:台中 健康講座
DESCRIPTION: 
URL:https://www.lanfar.com/event/%e5%8f%b0%e4%b8%ad-%e5%81%a5%e5%ba%b7%e8%ac%9b%e5%ba%a7-2025-10-08/
LOCATION:中區台中營業處 下午7:30\, 台中市西區五權路1-67號19樓
CATEGORIES:全部,台中
END:VEVENT
END:VCALENDAR