BEGIN:VCALENDAR
VERSION:2.0
PRODID:-//連法國際實業股份有限公司 - ECPv5.12.3//NONSGML v1.0//EN
CALSCALE:GREGORIAN
METHOD:PUBLISH
X-WR-CALNAME:連法國際實業股份有限公司
X-ORIGINAL-URL:https://www.lanfar.com
X-WR-CALDESC:Events for 連法國際實業股份有限公司
REFRESH-INTERVAL;VALUE=DURATION:PT1H
X-Robots-Tag:noindex
X-PUBLISHED-TTL:PT1H
BEGIN:VTIMEZONE
TZID:Asia/Shanghai
BEGIN:STANDARD
TZOFFSETFROM:+0800
TZOFFSETTO:+0800
TZNAME:CST
DTSTART:20250101T000000
END:STANDARD
END:VTIMEZONE
BEGIN:VEVENT
DTSTART;TZID=Asia/Shanghai:20250819T143000
DTEND;TZID=Asia/Shanghai:20250819T150000
DTSTAMP:20260426T061159
CREATED:20250728T055345Z
LAST-MODIFIED:20250730T032307Z
UID:55683-1755613800-1755615600@www.lanfar.com
SUMMARY:屏東 說故事分享會
DESCRIPTION: 
URL:https://www.lanfar.com/event/%e5%b1%8f%e6%9d%b1-%e8%aa%aa%e6%95%85%e4%ba%8b%e5%88%86%e4%ba%ab%e6%9c%83-2025-08-19/
LOCATION:勞動暨青年發展處 下午2:30\, 屏東縣屏東市自由路17號
CATEGORIES:全部,高雄
END:VEVENT
BEGIN:VEVENT
DTSTART;TZID=Asia/Shanghai:20250819T193000
DTEND;TZID=Asia/Shanghai:20250819T210000
DTSTAMP:20260426T061159
CREATED:20250728T055750Z
LAST-MODIFIED:20250730T032329Z
UID:55687-1755631800-1755637200@www.lanfar.com
SUMMARY:桃園 事業說明會
DESCRIPTION: 
URL:https://www.lanfar.com/event/%e6%a1%83%e5%9c%92-%e4%ba%8b%e6%a5%ad%e8%aa%aa%e6%98%8e%e6%9c%83-2025-08-19/
LOCATION:北區桃園營業處 下午7:30\, 桃園市桃園區復興路207號18樓之1
CATEGORIES:全部,桃園
END:VEVENT
END:VCALENDAR