BEGIN:VCALENDAR
VERSION:2.0
PRODID:-//連法國際實業股份有限公司 - ECPv5.12.3//NONSGML v1.0//EN
CALSCALE:GREGORIAN
METHOD:PUBLISH
X-WR-CALNAME:連法國際實業股份有限公司
X-ORIGINAL-URL:https://www.lanfar.com
X-WR-CALDESC:Events for 連法國際實業股份有限公司
REFRESH-INTERVAL;VALUE=DURATION:PT1H
X-Robots-Tag:noindex
X-PUBLISHED-TTL:PT1H
BEGIN:VTIMEZONE
TZID:Asia/Shanghai
BEGIN:STANDARD
TZOFFSETFROM:+0800
TZOFFSETTO:+0800
TZNAME:CST
DTSTART:20260101T000000
END:STANDARD
END:VTIMEZONE
BEGIN:VEVENT
DTSTART;TZID=Asia/Shanghai:20260425T100000
DTEND;TZID=Asia/Shanghai:20260425T170000
DTSTAMP:20260425T190855
CREATED:20260327T093603Z
LAST-MODIFIED:20260401T015619Z
UID:67077-1777111200-1777136400@www.lanfar.com
SUMMARY:高雄 NDO訓練
DESCRIPTION:
URL:https://www.lanfar.com/event/%e9%ab%98%e9%9b%84-ndo%e8%a8%93%e7%b7%b4-2026-04-25/
LOCATION:南區高雄營業處 上午10:00\, 高雄市前鎮區一心一路241號7樓
CATEGORIES:全部,高雄
END:VEVENT
BEGIN:VEVENT
DTSTART;TZID=Asia/Shanghai:20260423T193000
DTEND;TZID=Asia/Shanghai:20260423T210000
DTSTAMP:20260425T190855
CREATED:20260327T042727Z
LAST-MODIFIED:20260330T023820Z
UID:67048-1776972600-1776978000@www.lanfar.com
SUMMARY:高雄 說故事分享會
DESCRIPTION:
URL:https://www.lanfar.com/event/%e9%ab%98%e9%9b%84-%e8%aa%aa%e6%95%85%e4%ba%8b%e5%88%86%e4%ba%ab%e6%9c%83-2026-04-23/
LOCATION:南區高雄營業處 下午7:30\, 高雄市前鎮區一心一路241號7樓
CATEGORIES:全部,高雄
END:VEVENT
BEGIN:VEVENT
DTSTART;TZID=Asia/Shanghai:20260422T193000
DTEND;TZID=Asia/Shanghai:20260422T210000
DTSTAMP:20260425T190855
CREATED:20260416T094213Z
LAST-MODIFIED:20260423T014030Z
UID:67582-1776886200-1776891600@www.lanfar.com
SUMMARY:台中 連法教育訓練
DESCRIPTION: 
URL:https://www.lanfar.com/event/%e5%8f%b0%e4%b8%ad-%e9%80%a3%e6%b3%95%e6%95%99%e8%82%b2%e8%a8%93%e7%b7%b4-2026-04-22/
LOCATION:中區台中營業處 下午7:30\, 台中市西區五權路1-67號19樓
CATEGORIES:全部,台中
END:VEVENT
BEGIN:VEVENT
DTSTART;TZID=Asia/Shanghai:20260421T193000
DTEND;TZID=Asia/Shanghai:20260421T210000
DTSTAMP:20260425T190855
CREATED:20260327T041917Z
LAST-MODIFIED:20260330T023739Z
UID:67008-1776799800-1776805200@www.lanfar.com
SUMMARY:桃園 說故事分享會
DESCRIPTION:
URL:https://www.lanfar.com/event/%e6%a1%83%e5%9c%92-%e8%aa%aa%e6%95%85%e4%ba%8b%e5%88%86%e4%ba%ab%e6%9c%83-2026-04-21/
LOCATION:北區桃園營業處 下午7:30\, 桃園市桃園區復興路207號18樓之1
CATEGORIES:全部,桃園
END:VEVENT
BEGIN:VEVENT
DTSTART;TZID=Asia/Shanghai:20260420T193000
DTEND;TZID=Asia/Shanghai:20260420T210000
DTSTAMP:20260425T190855
CREATED:20260327T041122Z
LAST-MODIFIED:20260330T023719Z
UID:66987-1776713400-1776718800@www.lanfar.com
SUMMARY:台南 事業說明會
DESCRIPTION: 
URL:https://www.lanfar.com/event/%e5%8f%b0%e5%8d%97-%e4%ba%8b%e6%a5%ad%e8%aa%aa%e6%98%8e%e6%9c%83-2026-04-20/
LOCATION:南區台南營業處 下午7:30\, 台南市東區大同路2段615號6樓
CATEGORIES:全部,台南
END:VEVENT
BEGIN:VEVENT
DTSTART;TZID=Asia/Shanghai:20260418T100000
DTEND;TZID=Asia/Shanghai:20260418T170000
DTSTAMP:20260425T190855
CREATED:20260327T093213Z
LAST-MODIFIED:20260401T015435Z
UID:67073-1776506400-1776531600@www.lanfar.com
SUMMARY:台南 成長課程
DESCRIPTION:
URL:https://www.lanfar.com/event/%e5%8f%b0%e5%8d%97-%e6%88%90%e9%95%b7%e8%aa%b2%e7%a8%8b-2026-04-18/
LOCATION:南區台南營業處 上午10:00\, 台南市東區大同路2段615號6樓
CATEGORIES:全部,台南
END:VEVENT
BEGIN:VEVENT
DTSTART;TZID=Asia/Shanghai:20260416T193000
DTEND;TZID=Asia/Shanghai:20260416T210000
DTSTAMP:20260425T190855
CREATED:20260327T042631Z
LAST-MODIFIED:20260330T023635Z
UID:67044-1776367800-1776373200@www.lanfar.com
SUMMARY:高雄 健康講座
DESCRIPTION: 
URL:https://www.lanfar.com/event/%e9%ab%98%e9%9b%84-%e5%81%a5%e5%ba%b7%e8%ac%9b%e5%ba%a7-2026-04-16/
LOCATION:南區高雄營業處 下午7:30\, 高雄市前鎮區一心一路241號7樓
CATEGORIES:全部,高雄
END:VEVENT
BEGIN:VEVENT
DTSTART;TZID=Asia/Shanghai:20260415T193000
DTEND;TZID=Asia/Shanghai:20260415T210000
DTSTAMP:20260425T190855
CREATED:20260327T042303Z
LAST-MODIFIED:20260330T023612Z
UID:67024-1776281400-1776286800@www.lanfar.com
SUMMARY:台中 事業說明會
DESCRIPTION:
URL:https://www.lanfar.com/event/%e5%8f%b0%e4%b8%ad-%e4%ba%8b%e6%a5%ad%e8%aa%aa%e6%98%8e%e6%9c%83-2026-04-15/
LOCATION:中區台中營業處 下午7:30\, 台中市西區五權路1-67號19樓
CATEGORIES:全部,台中
END:VEVENT
BEGIN:VEVENT
DTSTART;TZID=Asia/Shanghai:20260414T193000
DTEND;TZID=Asia/Shanghai:20260414T210000
DTSTAMP:20260425T190855
CREATED:20260327T041642Z
LAST-MODIFIED:20260330T023550Z
UID:67004-1776195000-1776200400@www.lanfar.com
SUMMARY:桃園 健康講座
DESCRIPTION:
URL:https://www.lanfar.com/event/%e6%a1%83%e5%9c%92-%e5%81%a5%e5%ba%b7%e8%ac%9b%e5%ba%a7-2026-04-14/
LOCATION:北區桃園營業處 下午7:30\, 桃園市桃園區復興路207號18樓之1
CATEGORIES:全部,桃園
END:VEVENT
BEGIN:VEVENT
DTSTART;TZID=Asia/Shanghai:20260413T193000
DTEND;TZID=Asia/Shanghai:20260413T210000
DTSTAMP:20260425T190855
CREATED:20260327T041035Z
LAST-MODIFIED:20260330T023529Z
UID:66983-1776108600-1776114000@www.lanfar.com
SUMMARY:台南 健康講座
DESCRIPTION:
URL:https://www.lanfar.com/event/%e5%8f%b0%e5%8d%97-%e5%81%a5%e5%ba%b7%e8%ac%9b%e5%ba%a7-2026-04-13/
LOCATION:南區台南營業處 下午7:30\, 台南市東區大同路2段615號6樓
CATEGORIES:全部,台南
END:VEVENT
BEGIN:VEVENT
DTSTART;TZID=Asia/Shanghai:20260409T193000
DTEND;TZID=Asia/Shanghai:20260409T210000
DTSTAMP:20260425T190855
CREATED:20260327T042559Z
LAST-MODIFIED:20260330T023449Z
UID:67040-1775763000-1775768400@www.lanfar.com
SUMMARY:高雄 說故事分享會
DESCRIPTION:
URL:https://www.lanfar.com/event/%e9%ab%98%e9%9b%84-%e8%aa%aa%e6%95%85%e4%ba%8b%e5%88%86%e4%ba%ab%e6%9c%83-2026-04-09/
LOCATION:南區高雄營業處 下午7:30\, 高雄市前鎮區一心一路241號7樓
CATEGORIES:全部,高雄
END:VEVENT
BEGIN:VEVENT
DTSTART;TZID=Asia/Shanghai:20260407T193000
DTEND;TZID=Asia/Shanghai:20260407T210000
DTSTAMP:20260425T190855
CREATED:20260327T041527Z
LAST-MODIFIED:20260330T023348Z
UID:67000-1775590200-1775595600@www.lanfar.com
SUMMARY:桃園 事業說明會
DESCRIPTION:
URL:https://www.lanfar.com/event/%e6%a1%83%e5%9c%92-%e4%ba%8b%e6%a5%ad%e8%aa%aa%e6%98%8e%e6%9c%83-2026-04-07/
LOCATION:北區桃園營業處 下午7:30\, 桃園市桃園區復興路207號18樓之1
CATEGORIES:全部,桃園
END:VEVENT
BEGIN:VEVENT
DTSTART;VALUE=DATE:20260406
DTEND;VALUE=DATE:20260407
DTSTAMP:20260425T190855
CREATED:20260327T090314Z
LAST-MODIFIED:20260327T090316Z
UID:67067-1775433600-1775519999@www.lanfar.com
SUMMARY:節日補假
DESCRIPTION:
URL:https://www.lanfar.com/event/%e7%af%80%e6%97%a5%e8%a3%9c%e5%81%87-2026-04-06/
CATEGORIES:全部,桃園,台中,台南,高雄
END:VEVENT
BEGIN:VEVENT
DTSTART;VALUE=DATE:20260405
DTEND;VALUE=DATE:20260406
DTSTAMP:20260425T190855
CREATED:20260327T043013Z
LAST-MODIFIED:20260327T043014Z
UID:67061-1775347200-1775433599@www.lanfar.com
SUMMARY:清明節
DESCRIPTION:
URL:https://www.lanfar.com/event/%e6%b8%85%e6%98%8e%e7%af%80-2026-04-05/
CATEGORIES:全部,桃園,台中,台南,高雄
END:VEVENT
BEGIN:VEVENT
DTSTART;VALUE=DATE:20260404
DTEND;VALUE=DATE:20260405
DTSTAMP:20260425T190855
CREATED:20260327T042953Z
LAST-MODIFIED:20260327T042954Z
UID:67058-1775260800-1775347199@www.lanfar.com
SUMMARY:兒童節
DESCRIPTION:
URL:https://www.lanfar.com/event/%e5%85%92%e7%ab%a5%e7%af%80-2026-04-04/
CATEGORIES:全部,桃園,台中,台南,高雄
END:VEVENT
BEGIN:VEVENT
DTSTART;VALUE=DATE:20260403
DTEND;VALUE=DATE:20260404
DTSTAMP:20260425T190855
CREATED:20260327T054643Z
LAST-MODIFIED:20260327T054644Z
UID:67064-1775174400-1775260799@www.lanfar.com
SUMMARY:節日補假
DESCRIPTION:
URL:https://www.lanfar.com/event/%e7%af%80%e6%97%a5%e8%a3%9c%e5%81%87-2026-04-03/
CATEGORIES:全部,桃園,台中,台南,高雄
END:VEVENT
BEGIN:VEVENT
DTSTART;TZID=Asia/Shanghai:20260402T193000
DTEND;TZID=Asia/Shanghai:20260402T210000
DTSTAMP:20260425T190855
CREATED:20260327T042505Z
LAST-MODIFIED:20260330T023202Z
UID:67036-1775158200-1775163600@www.lanfar.com
SUMMARY:高雄 事業說明會
DESCRIPTION:
URL:https://www.lanfar.com/event/%e9%ab%98%e9%9b%84-%e4%ba%8b%e6%a5%ad%e8%aa%aa%e6%98%8e%e6%9c%83-2026-04-02/
LOCATION:南區高雄營業處 下午7:30\, 高雄市前鎮區一心一路241號7樓
CATEGORIES:全部,高雄
END:VEVENT
BEGIN:VEVENT
DTSTART;TZID=Asia/Shanghai:20260401T193000
DTEND;TZID=Asia/Shanghai:20260401T210000
DTSTAMP:20260425T190855
CREATED:20260327T042141Z
LAST-MODIFIED:20260330T023137Z
UID:67016-1775071800-1775077200@www.lanfar.com
SUMMARY:台中 健康講座
DESCRIPTION:
URL:https://www.lanfar.com/event/%e5%8f%b0%e4%b8%ad-%e5%81%a5%e5%ba%b7%e8%ac%9b%e5%ba%a7-2026-04-01/
LOCATION:中區台中營業處 下午7:30\, 台中市西區五權路1-67號19樓
CATEGORIES:全部,台中
END:VEVENT
BEGIN:VEVENT
DTSTART;TZID=Asia/Shanghai:20260331T193000
DTEND;TZID=Asia/Shanghai:20260331T210000
DTSTAMP:20260425T190855
CREATED:20260327T042103Z
LAST-MODIFIED:20260402T031302Z
UID:67012-1774985400-1774990800@www.lanfar.com
SUMMARY:桃園 賜多利同樂會
DESCRIPTION: 
URL:https://www.lanfar.com/event/%e6%a1%83%e5%9c%92-%e8%b3%9c%e5%a4%9a%e5%88%a9%e5%90%8c%e6%a8%82%e6%9c%83-2026-03-31-2/
LOCATION:北區桃園營業處 下午7:30\, 桃園市桃園區復興路207號18樓之1
CATEGORIES:全部,桃園
END:VEVENT
BEGIN:VEVENT
DTSTART;TZID=Asia/Shanghai:20260330T193000
DTEND;TZID=Asia/Shanghai:20260330T210000
DTSTAMP:20260425T190855
CREATED:20260224T045154Z
LAST-MODIFIED:20260226T085935Z
UID:65334-1774899000-1774904400@www.lanfar.com
SUMMARY:台南 事業說明會
DESCRIPTION:台南19:30事業說明會
URL:https://www.lanfar.com/event/%e5%8f%b0%e5%8d%97-%e4%ba%8b%e6%a5%ad%e8%aa%aa%e6%98%8e%e6%9c%83-2026-03-30/
LOCATION:南區台南營業處 下午7:30\, 台南市東區大同路2段615號6樓
CATEGORIES:全部,台南
END:VEVENT
BEGIN:VEVENT
DTSTART;TZID=Asia/Shanghai:20260326T193000
DTEND;TZID=Asia/Shanghai:20260326T210000
DTSTAMP:20260425T190855
CREATED:20260224T062227Z
LAST-MODIFIED:20260226T085917Z
UID:65415-1774553400-1774558800@www.lanfar.com
SUMMARY:高雄 事業說明會
DESCRIPTION:
URL:https://www.lanfar.com/event/%e9%ab%98%e9%9b%84-%e4%ba%8b%e6%a5%ad%e8%aa%aa%e6%98%8e%e6%9c%83-2026-03-26/
LOCATION:南區高雄營業處 下午7:30\, 高雄市前鎮區一心一路241號7樓
CATEGORIES:全部,高雄
END:VEVENT
BEGIN:VEVENT
DTSTART;TZID=Asia/Shanghai:20260325T193000
DTEND;TZID=Asia/Shanghai:20260325T210000
DTSTAMP:20260425T190855
CREATED:20260224T060951Z
LAST-MODIFIED:20260226T085855Z
UID:65389-1774467000-1774472400@www.lanfar.com
SUMMARY:台中 事業說明會
DESCRIPTION:
URL:https://www.lanfar.com/event/%e5%8f%b0%e4%b8%ad-%e4%ba%8b%e6%a5%ad%e8%aa%aa%e6%98%8e%e6%9c%83-2026-03-25/
LOCATION:中區台中營業處 下午7:30\, 台中市西區五權路1-67號19樓
CATEGORIES:全部,台中
END:VEVENT
BEGIN:VEVENT
DTSTART;TZID=Asia/Shanghai:20260324T193000
DTEND;TZID=Asia/Shanghai:20260324T210000
DTSTAMP:20260425T190855
CREATED:20260224T055835Z
LAST-MODIFIED:20260305T105702Z
UID:65362-1774380600-1774386000@www.lanfar.com
SUMMARY:桃園 事業說明會
DESCRIPTION: 
URL:https://www.lanfar.com/event/%e6%a1%83%e5%9c%92-%e4%ba%8b%e6%a5%ad%e8%aa%aa%e6%98%8e%e6%9c%83-2026-03-24/
LOCATION:北區桃園營業處 下午7:30\, 桃園市桃園區復興路207號18樓之1
CATEGORIES:全部,桃園
END:VEVENT
BEGIN:VEVENT
DTSTART;TZID=Asia/Shanghai:20260324T143000
DTEND;TZID=Asia/Shanghai:20260324T160000
DTSTAMP:20260425T190855
CREATED:20260224T055618Z
LAST-MODIFIED:20260226T085818Z
UID:65357-1774362600-1774368000@www.lanfar.com
SUMMARY:屏東 說故事分享會
DESCRIPTION:
URL:https://www.lanfar.com/event/%e5%b1%8f%e6%9d%b1-%e8%aa%aa%e6%95%85%e4%ba%8b%e5%88%86%e4%ba%ab%e6%9c%83-2026-03-24/
LOCATION:勞動暨青年發展處 下午2:30\, 屏東縣屏東市自由路17號
CATEGORIES:全部,高雄
END:VEVENT
BEGIN:VEVENT
DTSTART;TZID=Asia/Shanghai:20260323T193000
DTEND;TZID=Asia/Shanghai:20260323T213000
DTSTAMP:20260425T190855
CREATED:20260224T043026Z
LAST-MODIFIED:20260226T085758Z
UID:65330-1774294200-1774301400@www.lanfar.com
SUMMARY:台南  NDO訓練
DESCRIPTION:
URL:https://www.lanfar.com/event/%e5%8f%b0%e5%8d%97-ndo%e8%a8%93%e7%b7%b4-2026-03-23/
LOCATION:南區台南營業處 下午7:30\, 台南市東區大同路2段615號6樓
CATEGORIES:全部,台南
END:VEVENT
BEGIN:VEVENT
DTSTART;TZID=Asia/Shanghai:20260319T193000
DTEND;TZID=Asia/Shanghai:20260319T210000
DTSTAMP:20260425T190855
CREATED:20260224T061736Z
LAST-MODIFIED:20260226T085651Z
UID:65402-1773948600-1773954000@www.lanfar.com
SUMMARY:高雄 說故事分享會
DESCRIPTION:
URL:https://www.lanfar.com/event/%e9%ab%98%e9%9b%84-%e8%aa%aa%e6%95%85%e4%ba%8b%e5%88%86%e4%ba%ab%e6%9c%83-2026-03-19/
LOCATION:南區高雄營業處 下午7:30\, 高雄市前鎮區一心一路241號7樓
CATEGORIES:全部,高雄
END:VEVENT
BEGIN:VEVENT
DTSTART;TZID=Asia/Shanghai:20260318T193000
DTEND;TZID=Asia/Shanghai:20260318T210000
DTSTAMP:20260425T190855
CREATED:20260224T060814Z
LAST-MODIFIED:20260226T085633Z
UID:65384-1773862200-1773867600@www.lanfar.com
SUMMARY:台中 NDO訓練
DESCRIPTION:
URL:https://www.lanfar.com/event/%e5%8f%b0%e4%b8%ad-ndo%e8%a8%93%e7%b7%b4-2026-03-18/
LOCATION:中區台中營業處 下午7:30\, 台中市西區五權路1-67號19樓
CATEGORIES:全部,台中
END:VEVENT
BEGIN:VEVENT
DTSTART;TZID=Asia/Shanghai:20260317T193000
DTEND;TZID=Asia/Shanghai:20260317T210000
DTSTAMP:20260425T190855
CREATED:20260224T055300Z
LAST-MODIFIED:20260226T085613Z
UID:65352-1773775800-1773781200@www.lanfar.com
SUMMARY:桃園 說故事分享會
DESCRIPTION:
URL:https://www.lanfar.com/event/%e6%a1%83%e5%9c%92-%e8%aa%aa%e6%95%85%e4%ba%8b%e5%88%86%e4%ba%ab%e6%9c%83-2026-03-17/
LOCATION:北區桃園營業處 下午7:30\, 桃園市桃園區復興路207號18樓之1
CATEGORIES:全部,桃園
END:VEVENT
BEGIN:VEVENT
DTSTART;TZID=Asia/Shanghai:20260317T133000
DTEND;TZID=Asia/Shanghai:20260317T173000
DTSTAMP:20260425T190855
CREATED:20260224T054344Z
LAST-MODIFIED:20260302T034615Z
UID:65348-1773754200-1773768600@www.lanfar.com
SUMMARY:高雄 基座訓練
DESCRIPTION:
URL:https://www.lanfar.com/event/%e9%ab%98%e9%9b%84-%e5%9f%ba%e5%ba%a7%e8%a8%93%e7%b7%b4-2026-03-17/
LOCATION:南區高雄營業處 下午1:30\, 高雄市前鎮區一心一路241號7樓
CATEGORIES:全部,高雄
END:VEVENT
BEGIN:VEVENT
DTSTART;TZID=Asia/Shanghai:20260316T193000
DTEND;TZID=Asia/Shanghai:20260316T210000
DTSTAMP:20260425T190855
CREATED:20260224T042916Z
LAST-MODIFIED:20260226T085556Z
UID:65326-1773689400-1773694800@www.lanfar.com
SUMMARY:台南 事業說明會
DESCRIPTION: 
URL:https://www.lanfar.com/event/%e5%8f%b0%e5%8d%97-%e4%ba%8b%e6%a5%ad%e8%aa%aa%e6%98%8e%e6%9c%83-2026-03-16/
LOCATION:南區台南營業處 下午7:30\, 台南市東區大同路2段615號6樓
CATEGORIES:全部,台南
END:VEVENT
END:VCALENDAR